BEGIN:VCALENDAR
VERSION:2.0
PRODID:-//ILCYL - ECPv5.14.1//NONSGML v1.0//EN
CALSCALE:GREGORIAN
METHOD:PUBLISH
X-WR-CALNAME:ILCYL
X-ORIGINAL-URL:https://www.ilcyl.com
X-WR-CALDESC:Events for ILCYL
REFRESH-INTERVAL;VALUE=DURATION:PT1H
X-Robots-Tag:noindex
X-PUBLISHED-TTL:PT1H
BEGIN:VTIMEZONE
TZID:Europe/Madrid
BEGIN:DAYLIGHT
TZOFFSETFROM:+0100
TZOFFSETTO:+0200
TZNAME:CEST
DTSTART:20220327T010000
END:DAYLIGHT
BEGIN:STANDARD
TZOFFSETFROM:+0200
TZOFFSETTO:+0100
TZNAME:CET
DTSTART:20221030T010000
END:STANDARD
END:VTIMEZONE
BEGIN:VEVENT
DTSTART;TZID=Europe/Madrid:20221008T103000
DTEND;TZID=Europe/Madrid:20221008T113000
DTSTAMP:20260421T023327
CREATED:20220330T175616Z
LAST-MODIFIED:20220330T203027Z
UID:2974-1665225000-1665228600@www.ilcyl.com
SUMMARY:TALLER 4-7 AÑOSLetras desordenadas
DESCRIPTION:
URL:https://www.ilcyl.com/evento/letras-desordenadas-2/
CATEGORIES:Talleres
END:VEVENT
BEGIN:VEVENT
DTSTART;TZID=Europe/Madrid:20221008T123000
DTEND;TZID=Europe/Madrid:20221008T133000
DTSTAMP:20260421T023327
CREATED:20220330T175841Z
LAST-MODIFIED:20220330T205743Z
UID:2980-1665232200-1665235800@www.ilcyl.com
SUMMARY:TALLER 8-12 AÑOSLetras escondidas
DESCRIPTION:
URL:https://www.ilcyl.com/evento/letras-escondidas-2/
CATEGORIES:Talleres
END:VEVENT
END:VCALENDAR