BEGIN:VCALENDAR
VERSION:2.0
PRODID:-//ILCYL - ECPv5.14.1//NONSGML v1.0//EN
CALSCALE:GREGORIAN
METHOD:PUBLISH
X-WR-CALNAME:ILCYL
X-ORIGINAL-URL:https://www.ilcyl.com
X-WR-CALDESC:Events for ILCYL
REFRESH-INTERVAL;VALUE=DURATION:PT1H
X-Robots-Tag:noindex
X-PUBLISHED-TTL:PT1H
BEGIN:VTIMEZONE
TZID:Europe/Madrid
BEGIN:DAYLIGHT
TZOFFSETFROM:+0100
TZOFFSETTO:+0200
TZNAME:CEST
DTSTART:20220327T010000
END:DAYLIGHT
BEGIN:STANDARD
TZOFFSETFROM:+0200
TZOFFSETTO:+0100
TZNAME:CET
DTSTART:20221030T010000
END:STANDARD
END:VTIMEZONE
BEGIN:VEVENT
DTSTART;TZID=Europe/Madrid:20221022T103000
DTEND;TZID=Europe/Madrid:20221022T113000
DTSTAMP:20260420T033427
CREATED:20220330T180559Z
LAST-MODIFIED:20220330T203159Z
UID:2996-1666434600-1666438200@www.ilcyl.com
SUMMARY:TALLER 4-7 AÑOSContando cuentos
DESCRIPTION:
URL:https://www.ilcyl.com/evento/contando-cuentos-2/
CATEGORIES:Talleres
END:VEVENT
BEGIN:VEVENT
DTSTART;TZID=Europe/Madrid:20221022T123000
DTEND;TZID=Europe/Madrid:20221022T133000
DTSTAMP:20260420T033427
CREATED:20220330T180711Z
LAST-MODIFIED:20221021T101909Z
UID:2999-1666441800-1666445400@www.ilcyl.com
SUMMARY:TALLER 8-12 AÑOSCuentos contados
DESCRIPTION:
URL:https://www.ilcyl.com/evento/cuentos-contados-2/
CATEGORIES:Talleres
END:VEVENT
BEGIN:VEVENT
DTSTART;TZID=Europe/Madrid:20221022T210000
DTEND;TZID=Europe/Madrid:20221023T100000
DTSTAMP:20260420T033427
CREATED:20220330T182419Z
LAST-MODIFIED:20221021T102317Z
UID:3030-1666472400-1666519200@www.ilcyl.com
SUMMARY:ACTIVIDAD 8-12 AÑOSLas Noches de Palacio
DESCRIPTION:Pasa una noche inolvidable en el Palacio de la Isla realizando talleres y actividades que te llevarán a construir tu propio campamento para pasar la noche\, a descubrir libros encantados y a buscar las letras robadas de nuestro alfabeto. Cada noche estará dedicada a un libro diferente.
URL:https://www.ilcyl.com/evento/las-noches-de-palacio-5/
CATEGORIES:Las Noches de Palacio
END:VEVENT
END:VCALENDAR