BEGIN:VCALENDAR
VERSION:2.0
PRODID:-//ILCYL - ECPv5.14.1//NONSGML v1.0//EN
CALSCALE:GREGORIAN
METHOD:PUBLISH
X-WR-CALNAME:ILCYL
X-ORIGINAL-URL:https://www.ilcyl.com
X-WR-CALDESC:Events for ILCYL
REFRESH-INTERVAL;VALUE=DURATION:PT1H
X-Robots-Tag:noindex
X-PUBLISHED-TTL:PT1H
BEGIN:VTIMEZONE
TZID:Europe/Madrid
BEGIN:DAYLIGHT
TZOFFSETFROM:+0100
TZOFFSETTO:+0200
TZNAME:CEST
DTSTART:20220327T010000
END:DAYLIGHT
BEGIN:STANDARD
TZOFFSETFROM:+0200
TZOFFSETTO:+0100
TZNAME:CET
DTSTART:20221030T010000
END:STANDARD
END:VTIMEZONE
BEGIN:VEVENT
DTSTART;TZID=Europe/Madrid:20221029T103000
DTEND;TZID=Europe/Madrid:20221029T113000
DTSTAMP:20260419T153416
CREATED:20220330T180919Z
LAST-MODIFIED:20221028T105244Z
UID:3005-1667039400-1667043000@www.ilcyl.com
SUMMARY:TALLER 4-7 AÑOSDonde escribían nuestros antepasados
DESCRIPTION:
URL:https://www.ilcyl.com/evento/donde-escribian-nuestros-antepasados-3/
CATEGORIES:Talleres
END:VEVENT
BEGIN:VEVENT
DTSTART;TZID=Europe/Madrid:20221029T123000
DTEND;TZID=Europe/Madrid:20221029T133000
DTSTAMP:20260419T153416
CREATED:20220330T181023Z
LAST-MODIFIED:20221028T105310Z
UID:3011-1667046600-1667050200@www.ilcyl.com
SUMMARY:TALLER 8-12 AÑOSPapiros\,pergaminos y papeles
DESCRIPTION:
URL:https://www.ilcyl.com/evento/papirospergaminos-y-papeles/
CATEGORIES:Talleres
END:VEVENT
END:VCALENDAR