BEGIN:VCALENDAR
VERSION:2.0
PRODID:-//ILCYL - ECPv5.14.1//NONSGML v1.0//EN
CALSCALE:GREGORIAN
METHOD:PUBLISH
X-WR-CALNAME:ILCYL
X-ORIGINAL-URL:https://www.ilcyl.com
X-WR-CALDESC:Events for ILCYL
REFRESH-INTERVAL;VALUE=DURATION:PT1H
X-Robots-Tag:noindex
X-PUBLISHED-TTL:PT1H
BEGIN:VTIMEZONE
TZID:Europe/Madrid
BEGIN:DAYLIGHT
TZOFFSETFROM:+0100
TZOFFSETTO:+0200
TZNAME:CEST
DTSTART:20250330T010000
END:DAYLIGHT
BEGIN:STANDARD
TZOFFSETFROM:+0200
TZOFFSETTO:+0100
TZNAME:CET
DTSTART:20251026T010000
END:STANDARD
END:VTIMEZONE
BEGIN:VEVENT
DTSTART;TZID=Europe/Madrid:20250627T083000
DTEND;TZID=Europe/Madrid:20250730T143000
DTSTAMP:20260419T175248
CREATED:20250619T074102Z
LAST-MODIFIED:20250619T074102Z
UID:10290-1751013000-1753885800@www.ilcyl.com
SUMMARY:Exposición 'Ciertos deslumbramientos'. Casa de Cultura de Aranda de Duero
DESCRIPTION:El Instituto Castellano y Leonés de la Lengua y el Ayuntamiento de Aranda de Duero programan en la Casa de Cultura\, desde el 27 de junio hasta el 30 de julio la exposición de fotografía ‘Ciertos deslumbramientos’\, proyecto expositivo que integra 24 fotografías de distintos tamaños del fotógrafo leonés José Ramón Vega\, que se presentan acompañadas por textos de Tomás Sánchez Santiago\, escritor zamorano afincado en León. \n 
URL:https://www.ilcyl.com/evento/exposicion-ciertos-deslumbramientos-casa-de-cultura-de-aranda-de-duero/
CATEGORIES:Exposición
ATTACH;FMTTYPE=image/jpeg:https://www.ilcyl.com/wp-content/uploads/2025/06/Ciertos-deslumbramientos-Aranda-de-Duero.jpg
END:VEVENT
BEGIN:VEVENT
DTSTART;VALUE=DATE:20250717
DTEND;VALUE=DATE:20250721
DTSTAMP:20260419T175248
CREATED:20250715T080419Z
LAST-MODIFIED:20250715T080419Z
UID:10392-1752710400-1753055999@www.ilcyl.com
SUMMARY:Feria de editores 'Editantes'. Segovia 
DESCRIPTION:El Instituto Castellano y Leonés de la Lengua\, la Consejería de Cultura\, Turismo y Deporte\, el Ayuntamiento de Segovia\, la Diputación de Segovia y el Gremio de Editores de Castilla y León promueven en la Plaza Mayor de Segovia\, entre los días 17 y 20 de julio\, la ‘II Feria de Editores de Castilla y León Editantes’\, encuentro que reafirma el compromiso que tiene de convertirse en escaparate del sector editorial de la Comunidad en esta segunda edición que mantiene su esencia y ofrece un espacio abierto a la creación\, la edición y el encuentro entre lectores\, editores y autores con intención de convertirse en un homenaje a la cadena del libro. \nHorarios: \nJueves 18:00 a 20:00 horas \nViernes y sábado\, 18 y 19 de julio: 11:30 a 14:30 horas y 18:00 a 21:00 horas \nDomingo\, 20 de julio. 11:30 a 14:30 horas
URL:https://www.ilcyl.com/evento/feria-de-editores-editantes-segovia/
CATEGORIES:Feria
ATTACH;FMTTYPE=image/png:https://www.ilcyl.com/wp-content/uploads/2025/07/Cartel-1.png
END:VEVENT
BEGIN:VEVENT
DTSTART;TZID=Europe/Madrid:20250719T110000
DTEND;TZID=Europe/Madrid:20250719T140000
DTSTAMP:20260419T175248
CREATED:20250702T121946Z
LAST-MODIFIED:20250702T121946Z
UID:10366-1752922800-1752933600@www.ilcyl.com
SUMMARY:‘Los Sábados en Palacio’. Jornada de puertas abiertas y visita guiada al Palacio de la Isla. Burgos
DESCRIPTION:El Instituto Castellano y Leonés de la Lengua organiza la propuesta divulgativa ‘Los Sábados en Palacio’\, una jornada de puertas abiertas al Palacio de la Isla de Burgos (11:00 a 14:00 horas) que incluye una visita guiada gratuita a las 12.00 horas. Conoce la historia de uno de los edificios más emblemáticos de la ciudad de Burgos\, construido como residencia de verano a finales del siglo XIX por la familia madrileña Muguiro y escenario de hechos trascendentales de la historia española del siglo XX \nInformación y reservas: 947 256090. Máximo: 30 plazas.
URL:https://www.ilcyl.com/evento/los-sabados-en-palacio-jornada-de-puertas-abiertas-y-visita-guiada-al-palacio-de-la-isla-burgos-12/
CATEGORIES:Visita guiada
ATTACH;FMTTYPE=image/jpeg:https://www.ilcyl.com/wp-content/uploads/2025/07/19-07-2025.-Sabados-en-Palacio.-A4.jpg
END:VEVENT
BEGIN:VEVENT
DTSTART;TZID=Europe/Madrid:20250719T180000
DTEND;TZID=Europe/Madrid:20250719T190000
DTSTAMP:20260419T175248
CREATED:20250715T125023Z
LAST-MODIFIED:20250715T125023Z
UID:10447-1752948000-1752951600@www.ilcyl.com
SUMMARY:Encuentro 'Escribir\, defender y publicar una gran novela'\, por Juan Manuel de Prada. Feria 'Editantes'. Segovia
DESCRIPTION:El escritor Juan Manuel de Prada participa el sábado\, 19 de julio\, a las 18:00 horas\, en la Casa de la Lectura- Biblioteca municipal de Segovia\, en el encuentro ‘Escribir\, defender y publicar una gran novela’. Esta actividad se integra en la II Feria de Editores de Castilla y León ‘Editantes’ que el Ayuntamiento de Segovia y el Instituto Castellano y Leonés de la Lengua promueven junto al Gremio de Editores de Castilla y León en la Plaza Mayor de Segovia desde el 17 al 20 de julio. El autor estará acompañado por Miryam Galaz Villasante\, editora ejecutiva de Narrativa de la Editorial Espasa. \n 
URL:https://www.ilcyl.com/evento/encuentro-escribir-defender-y-publicar-una-gran-novela-por-juan-manuel-de-prada-feria-editantes-segovia/
CATEGORIES:Conferencia,Encuentro
ATTACH;FMTTYPE=image/png:https://www.ilcyl.com/wp-content/uploads/2025/07/1080x1350.png
END:VEVENT
BEGIN:VEVENT
DTSTART;TZID=Europe/Madrid:20250719T210000
DTEND;TZID=Europe/Madrid:20250720T020000
DTSTAMP:20260419T175248
CREATED:20250715T094633Z
LAST-MODIFIED:20250715T095013Z
UID:10442-1752958800-1752976800@www.ilcyl.com
SUMMARY:Recitales de Tomás Sánchez Santiago\, Juan Álvarez Iglesias y Ángela Segovia. 'Noche Blanca del Agua'. Palencia
DESCRIPTION:El Instituto Castellano y Leonés de la Lengua se suma a la celebración de la Noche Blanca del Agua que promueve el Ayuntamiento de Palencia el sábado\, 19 de julio\, en distintos espacios de la capital palentina\, entre las 21:00 y las 2:00 horas\, con la organización de varios recitales poéticos. El poeta zamorano Tomás Sánchez Santiago\, el leonés Juan Álvarez Iglesias y la abulense Ángela Segovia son los tres poetas de Castilla y León invitados a participar en esta jornada que invita a visitar Palencia a través del patrimonio en una noche mágica.
URL:https://www.ilcyl.com/evento/recitales-en-la-noche-blanca-del-agua-palencia/
CATEGORIES:Actividad literaria
ATTACH;FMTTYPE=image/jpeg:https://www.ilcyl.com/wp-content/uploads/2025/07/OK-19.07.25-Noche-Blanca-del-Agua.-Palencia.jpeg
END:VEVENT
END:VCALENDAR