BEGIN:VCALENDAR
VERSION:2.0
PRODID:-//ILCYL - ECPv5.14.1//NONSGML v1.0//EN
CALSCALE:GREGORIAN
METHOD:PUBLISH
X-WR-CALNAME:ILCYL
X-ORIGINAL-URL:https://www.ilcyl.com
X-WR-CALDESC:Events for ILCYL
REFRESH-INTERVAL;VALUE=DURATION:PT1H
X-Robots-Tag:noindex
X-PUBLISHED-TTL:PT1H
BEGIN:VTIMEZONE
TZID:Europe/Madrid
BEGIN:DAYLIGHT
TZOFFSETFROM:+0100
TZOFFSETTO:+0200
TZNAME:CEST
DTSTART:20250330T010000
END:DAYLIGHT
BEGIN:STANDARD
TZOFFSETFROM:+0200
TZOFFSETTO:+0100
TZNAME:CET
DTSTART:20251026T010000
END:STANDARD
END:VTIMEZONE
BEGIN:VEVENT
DTSTART;TZID=Europe/Madrid:20250803T200000
DTEND;TZID=Europe/Madrid:20250803T210000
DTSTAMP:20260419T160535
CREATED:20250723T122834Z
LAST-MODIFIED:20250723T122834Z
UID:10409-1754251200-1754254800@www.ilcyl.com
SUMMARY:Ciclo de conciertos de órgano 'Tierra de Medina 'La Palabra y la Música'. Pozaldez
DESCRIPTION:El ‘XVII Ciclo de Conciertos de Órgano ‘La Palabra y la Música’ que promueven la Mancomunidad Tierras de Medina\, la asociación cultural Organaria y el Instituto Castellano y Leonés de la Lengua programa el domingo\, 3 de agosto\, a las 20:00 horas\, en la Iglesia de San Boal de Pozáldez\, un concierto que contará con la actuación del organista Álvaro Carretero.
URL:https://www.ilcyl.com/evento/ciclo-de-conciertos-de-organo-tierra-de-medina-la-palabra-y-la-musica-pozaldez/
CATEGORIES:Música
ATTACH;FMTTYPE=image/jpeg:https://www.ilcyl.com/wp-content/uploads/2025/07/Cartel-XVII-Ciclo-Conciertos-de-Organo-en-las-Tierras-de-Medina-2025-724x1024-1.jpeg
END:VEVENT
END:VCALENDAR