BEGIN:VCALENDAR
VERSION:2.0
PRODID:-//ILCYL - ECPv5.14.1//NONSGML v1.0//EN
CALSCALE:GREGORIAN
METHOD:PUBLISH
X-WR-CALNAME:ILCYL
X-ORIGINAL-URL:https://www.ilcyl.com
X-WR-CALDESC:Events for ILCYL
REFRESH-INTERVAL;VALUE=DURATION:PT1H
X-Robots-Tag:noindex
X-PUBLISHED-TTL:PT1H
BEGIN:VTIMEZONE
TZID:Europe/Madrid
BEGIN:DAYLIGHT
TZOFFSETFROM:+0100
TZOFFSETTO:+0200
TZNAME:CEST
DTSTART:20250330T010000
END:DAYLIGHT
BEGIN:STANDARD
TZOFFSETFROM:+0200
TZOFFSETTO:+0100
TZNAME:CET
DTSTART:20251026T010000
END:STANDARD
END:VTIMEZONE
BEGIN:VEVENT
DTSTART;TZID=Europe/Madrid:20250805T193000
DTEND;TZID=Europe/Madrid:20250805T210000
DTSTAMP:20260419T160447
CREATED:20250714T120751Z
LAST-MODIFIED:20250715T084930Z
UID:10432-1754422200-1754427600@www.ilcyl.com
SUMMARY:'Poemas en pie de paz'\, por Ángel Petisme\, en la feria del libro Expoesía. Soria
DESCRIPTION:El Instituto Castellano y Leonés de la Lengua y el Ayuntamiento de Soria organizan el martes\, 5 de agosto\, a las 19:30 horas\, en el Parque de la Alameda de Soria\, el recital ‘Poemas en pie de paz’\, de Ángel Petisme. El poeta y cantautor ofrece un recital con algunos de los poemas y canciones nacidos de sus viajes a lo largo de un cuarto de siglo por zonas de conflicto como Palestina. Iraq\, Siria\, el Sahará occidental y varios países africanos. La propuesta musical se integra en la programación oficial de la feria del libro ‘Expoesía’ que se celebra en la capital soriana entre el 1 y el 8 de agosto.
URL:https://www.ilcyl.com/evento/el-hombre-que-lanzo-un-zapato-a-bush-por-angel-petisme-soria/
CATEGORIES:Música
ATTACH;FMTTYPE=image/jpeg:https://www.ilcyl.com/wp-content/uploads/2025/07/05-08-2025.-DEF-Expoesia.-Feria-del-Libro.-Soria.-‘El-hombre-que-lanzo-un-zapato-a-Bush-Angel-Petisme-scaled.jpg
END:VEVENT
END:VCALENDAR