BEGIN:VCALENDAR
VERSION:2.0
PRODID:-//ILCYL - ECPv5.14.1//NONSGML v1.0//EN
CALSCALE:GREGORIAN
METHOD:PUBLISH
X-WR-CALNAME:ILCYL
X-ORIGINAL-URL:https://www.ilcyl.com
X-WR-CALDESC:Events for ILCYL
REFRESH-INTERVAL;VALUE=DURATION:PT1H
X-Robots-Tag:noindex
X-PUBLISHED-TTL:PT1H
BEGIN:VTIMEZONE
TZID:Europe/Madrid
BEGIN:DAYLIGHT
TZOFFSETFROM:+0100
TZOFFSETTO:+0200
TZNAME:CEST
DTSTART:20250330T010000
END:DAYLIGHT
BEGIN:STANDARD
TZOFFSETFROM:+0200
TZOFFSETTO:+0100
TZNAME:CET
DTSTART:20251026T010000
END:STANDARD
END:VTIMEZONE
BEGIN:VEVENT
DTSTART;TZID=Europe/Madrid:20250807T200000
DTEND;TZID=Europe/Madrid:20250809T213000
DTSTAMP:20260419T161633
CREATED:20250625T104924Z
LAST-MODIFIED:20250723T123546Z
UID:10314-1754596800-1754775000@www.ilcyl.com
SUMMARY:'II Festival Tierras del Renacimiento' Cisneros- Paredes de Nava-Becerril de Campos
DESCRIPTION:El Instituto Castellano y Leonés de la Lengua promueve junto a la Fundación Cisneros el ‘II Festival Tierras del Renacimiento’\, que se celebra en los municipios palentinos de Cisneros\, Paredes de Nava y Becerril de Campos durante los días 7\, 8 y 9 de agosto.  La Diputación de Palencia y los respectivos ayuntamientos colaboran igualmente en esta propuesta musical. \nEl colectivo musical ‘Solistas de Madrid’\, integrado por los músicos Jesús Ángel León (violín)\, Antonio Arias (flauta)\, Virginia Aparicio (viola)\, José María Mañero (cello) y Gerardo López Laguna (piano) son los protagonistas de la ejecución de un programa musical que incluye tangos de Astor Piazzolla\, Juan de Dios Filiberto y Carlos Gardel; la interpretación de dos cuartetos de W.A. Mozart y de Gustav Mahler\, y la suit ‘Cuentos de hadas’\, dirigida por Jesús Ángel León y estrenada en 2024. \n  \n\nJueves\, 7 de agosto (20:00 h).\n\n         Cisneros.  Iglesia de San Facundo. \n\nViernes\, 8 de agosto (20:00 h).\n\n         Paredes de Nava.  Centro de Artes Escénicas \n\nSábado\, 9 de agosto (20.00 horas\n\n          Becerril de Campos  San Pedro Cultural \n\nEntrada. Libre hasta completar aforo.
URL:https://www.ilcyl.com/evento/ii-festival-tierras-del-renacimiento-cisneros-paredes-de-nava-becerril-de-campos/2025-08-07/
CATEGORIES:Música
ATTACH;FMTTYPE=image/png:https://www.ilcyl.com/wp-content/uploads/2025/06/CARTEL-II-FESTIVAL-.png
END:VEVENT
END:VCALENDAR