BEGIN:VCALENDAR
VERSION:2.0
PRODID:-//ILCYL - ECPv5.14.1//NONSGML v1.0//EN
CALSCALE:GREGORIAN
METHOD:PUBLISH
X-WR-CALNAME:ILCYL
X-ORIGINAL-URL:https://www.ilcyl.com
X-WR-CALDESC:Events for ILCYL
REFRESH-INTERVAL;VALUE=DURATION:PT1H
X-Robots-Tag:noindex
X-PUBLISHED-TTL:PT1H
BEGIN:VTIMEZONE
TZID:Europe/Madrid
BEGIN:DAYLIGHT
TZOFFSETFROM:+0100
TZOFFSETTO:+0200
TZNAME:CEST
DTSTART:20250330T010000
END:DAYLIGHT
BEGIN:STANDARD
TZOFFSETFROM:+0200
TZOFFSETTO:+0100
TZNAME:CET
DTSTART:20251026T010000
END:STANDARD
BEGIN:DAYLIGHT
TZOFFSETFROM:+0100
TZOFFSETTO:+0200
TZNAME:CEST
DTSTART:20260329T010000
END:DAYLIGHT
BEGIN:STANDARD
TZOFFSETFROM:+0200
TZOFFSETTO:+0100
TZNAME:CET
DTSTART:20261025T010000
END:STANDARD
END:VTIMEZONE
BEGIN:VEVENT
DTSTART;TZID=Europe/Madrid:20250929T080000
DTEND;TZID=Europe/Madrid:20260117T170000
DTSTAMP:20260421T101649
CREATED:20250929T122015Z
LAST-MODIFIED:20250929T122015Z
UID:10867-1759132800-1768669200@www.ilcyl.com
SUMMARY:Exposición 'In custodia verbi. Bendita la locura de la piedra'. Burgos
DESCRIPTION:El Instituto Castellano y Leonés de la Lengua programa en los jardines y en la planta baja del Palacio de la Isla de Burgos la exposición ‘In custodia verbi. Bendita la locura de la piedra’\, un conjunto escultórico creado por el escultor burgalés Alberto Bañuelos\, que toma como punto de partida cantos rodados\, alabastro y bolos graníticos. Esta muestra\, comisariada por el técnico y crítico de arte Alfonso de la Torre\, convierte el conjunto final en garante de la custodia como símbolo de la vigilancia del lenguaje que viene realizando esta institución. La muestra se puede ver hasta el próximo 17 de enero de 2026.
URL:https://www.ilcyl.com/evento/exposicion-in-custodia-verbi-bendita-la-locura-de-la-piedra-burgos/
CATEGORIES:Exposición
ATTACH;FMTTYPE=image/jpeg:https://www.ilcyl.com/wp-content/uploads/2025/09/1080X1350-scaled.jpg
END:VEVENT
BEGIN:VEVENT
DTSTART;VALUE=DATE:20251022
DTEND;VALUE=DATE:20260118
DTSTAMP:20260421T101649
CREATED:20251023T091719Z
LAST-MODIFIED:20251023T091719Z
UID:11096-1761091200-1768694399@www.ilcyl.com
SUMMARY:Exposición 'Palabras Panhispánicas'. Palacio de la Isla. Burgos
DESCRIPTION:El Instituto Castellano y Leonés de la Lengua y la Asociación de Academias de la Lengua Española (ASALE) promueven en el Palacio de la Isla de Burgos desde el 22 de octubre hasta el 17 de enero de 2026 la exposición ‘Palabras Panhispánicas’\, un recorrido por la riqueza del español a través de las voces y expresiones que dan forma a la vida cotidiana de millones de personas en los distintos países hispanohablantes\, así como en Filipinas y Guinea Ecuatorial.
URL:https://www.ilcyl.com/evento/exposicion-palabras-panhispanicas-palacio-de-la-isla-burgos/
CATEGORIES:Exposición
ATTACH;FMTTYPE=image/jpeg:https://www.ilcyl.com/wp-content/uploads/2025/10/Cartel-Palabras-Panhispanicas.-Burgos.jpg
END:VEVENT
BEGIN:VEVENT
DTSTART;VALUE=DATE:20251106
DTEND;VALUE=DATE:20251127
DTSTAMP:20260421T101649
CREATED:20251103T111555Z
LAST-MODIFIED:20251103T111555Z
UID:11226-1762387200-1764201599@www.ilcyl.com
SUMMARY:Exposición 'Ciertos deslumbramientos' Sancti Spiritus (Salamanca)
DESCRIPTION:La Diputación de Salamanca y el Instituto Castellano y Leonés de la Lengua programan en la Iglesia vieja de Sancti-Spiritus\, entre los días 6 y 26 de noviembre\, la exposición de fotografía ‘Ciertos deslumbramientos’\, proyecto expositivo que integra 24 imágenes de distintos tamaños del fotógrafo leonés José Ramón Vega\, que se presentan acompañadas por textos poéticos de Tomás Sánchez Santiago\, escritor zamorano afincado en León. Esta exposición se enmarca en el Circuito de Exposiciones Itinerantes ‘por la difusión del arte y la cultura en el entorno rural’ que la Diputación de Salamanca\, la Junta de Castilla y León y el Instituto Castellano y Leonés de la Lengua desarrollan durante este año en distintos municipios salmantinos. \nHorario de apertura: 12:00 a 14:00 y 17:00 a 19:00 horas
URL:https://www.ilcyl.com/evento/exposicion-ciertos-deslumbramientos-sancti-spiritus-salamanca/
CATEGORIES:Exposición
ATTACH;FMTTYPE=image/jpeg:https://www.ilcyl.com/wp-content/uploads/2025/11/Cartel-Ciertos-deslumbramientos.-Sancti-Spiritus-Salamanca.jpg
END:VEVENT
BEGIN:VEVENT
DTSTART;VALUE=DATE:20251107
DTEND;VALUE=DATE:20251108
DTSTAMP:20260421T101649
CREATED:20251027T152243Z
LAST-MODIFIED:20251029T152458Z
UID:11155-1762473600-1762559999@www.ilcyl.com
SUMMARY:'Insolentes\, raras\, genias: Margarita Ferreras y el campo cultural femenino en la Edad de Plata'. Salamanca
DESCRIPTION:La Casa Museo Unamuno de Salamanca acoge el viernes\, 7 de noviembre\, el simposio ‘Insolentes\, raras\, genias: Margarita Ferreras y el campo cultural femenino en la Edad de Plata’\, organizado por  la Universidad de Salamanca y el Instituto Castellano y Leonés de la Lengua. en el que se analizará el ambiente cultural de las poetas e intelectuales de la llamada Generación del 27. Este encuentro científico sirve de colofón a las actividades que\, durante 2025\, ha programado el Círculo Literario Margarita Ferreras con ocasión del 125 aniversario del nacimiento de esta poeta nacida en Alcañices (Zamora).
URL:https://www.ilcyl.com/evento/insolentes-raras-genias-margarita-ferreras-y-el-campo-cultural-femenino-en-la-edad-de-plata-salamanca/
CATEGORIES:Congreso
ATTACH;FMTTYPE=image/png:https://www.ilcyl.com/wp-content/uploads/2025/10/Cartel-Insoleentes.-Casa-Museo-Unamuno-.png
END:VEVENT
BEGIN:VEVENT
DTSTART;TZID=Europe/Madrid:20251107T190000
DTEND;TZID=Europe/Madrid:20251107T203000
DTSTAMP:20260421T101649
CREATED:20251029T152851Z
LAST-MODIFIED:20251029T152851Z
UID:11159-1762542000-1762547400@www.ilcyl.com
SUMMARY:'El cuento de nunca acabar'\, por Azar Teatro. León
DESCRIPTION:El Instituto Castellano y Leonés de la Lengua organiza el viernes\, 7 de noviembre\, a las 19:00 horas\, en la Biblioteca Pública de León la puesta en escena de la obra teatral ‘El cuento de nunca acabar’\, por la compañía Azar Teatro. La obra constituye un retrato de la escritora Carmen Martín Gaite\, autora que abrió muchas sendas cerradas a la mujer en aquellos años y que\, con su trabajo literario\, fue capaz de descubrir las múltiples facetas que permanecen ocultas tras existencias aparentemente anodinas.
URL:https://www.ilcyl.com/evento/el-cuento-de-nunca-acabar-por-azar-teatro-leon/
CATEGORIES:Teatro
ATTACH;FMTTYPE=image/jpeg:https://www.ilcyl.com/wp-content/uploads/2025/10/07-11-2025.-Biblioteca-Publica-de-Leon.-El-cuento-de-nunca-acabar.-Azar-Teatro-scaled.jpg
END:VEVENT
END:VCALENDAR