BEGIN:VCALENDAR
VERSION:2.0
PRODID:-//ILCYL - ECPv5.14.1//NONSGML v1.0//EN
CALSCALE:GREGORIAN
METHOD:PUBLISH
X-WR-CALNAME:ILCYL
X-ORIGINAL-URL:https://www.ilcyl.com
X-WR-CALDESC:Events for ILCYL
REFRESH-INTERVAL;VALUE=DURATION:PT1H
X-Robots-Tag:noindex
X-PUBLISHED-TTL:PT1H
BEGIN:VTIMEZONE
TZID:Europe/Madrid
BEGIN:DAYLIGHT
TZOFFSETFROM:+0100
TZOFFSETTO:+0200
TZNAME:CEST
DTSTART:20260329T010000
END:DAYLIGHT
BEGIN:STANDARD
TZOFFSETFROM:+0200
TZOFFSETTO:+0100
TZNAME:CET
DTSTART:20261025T010000
END:STANDARD
END:VTIMEZONE
BEGIN:VEVENT
DTSTART;VALUE=DATE:20260116
DTEND;VALUE=DATE:20260215
DTSTAMP:20260419T143816
CREATED:20260114T113938Z
LAST-MODIFIED:20260114T113938Z
UID:11829-1768521600-1771113599@www.ilcyl.com
SUMMARY:Exposición 'El vuelo del mirlo'. Casa de Cultura. Aranda de Duero
DESCRIPTION:La Casa de Cultura de Aranda de Duero acoge desde el 16 de enero hasta el próximo 14 de febrero la exposición ‘El vuelo del mirlo’\, muestra producida por el Instituto Castellano y Leonés de la Lengua e instalada en este equipamiento cultural con la colaboración del Ayuntamiento arandino\, patrono de la institución. Este montaje expositivo recrea los orígenes del proyecto editorial desplegado en la revista de fotografía y literatura ‘Mirlo’ por el fotógrafo y diseñador Asís G. Ayerbe (Valladolid\, 1978) y el escritor Óscar Esquivias (Burgos\, 1972)\, editores de la muestra y comisarios de este proyecto expositivo itinerante
URL:https://www.ilcyl.com/evento/exposicion-el-vuelo-del-mirlo-casa-de-cultura-aranda-de-duero/
CATEGORIES:Exposición
ATTACH;FMTTYPE=image/jpeg:https://www.ilcyl.com/wp-content/uploads/2026/01/cartel-expo-aranda-El-vuelo-del-mirlo.jpg
END:VEVENT
BEGIN:VEVENT
DTSTART;TZID=Europe/Madrid:20260131T110000
DTEND;TZID=Europe/Madrid:20260131T140000
DTSTAMP:20260419T143816
CREATED:20260105T121930Z
LAST-MODIFIED:20260105T121930Z
UID:11763-1769857200-1769868000@www.ilcyl.com
SUMMARY:Los Sábados en Palacio. Visita guiada al Palacio de la Isla de Burgos
DESCRIPTION:El Instituto Castellano y Leonés de la Lengua organiza el sábado\, 31 de enero\, en horario de 11:00 a 14:00 horas\, la propuesta divulgativa ‘Los Sábados en Palacio’\, una nueva jornada de puertas abiertas a su sede\, el Palacio de la Isla\, que incluye una visita guiada (12:00 horas) de carácter gratuito que acerca al visitante la historia de uno de los edificios más emblemáticos de la capital burgalesa. Esta propuesta quiere también dar a conocer el trabajo de la institución en el ámbito de la investigación de orígenes del español y en la promoción de la literatura de la Comunidad. \n 
URL:https://www.ilcyl.com/evento/los-sabados-en-palacio-visita-guiada-al-palacio-de-la-isla-de-burgos-2/
CATEGORIES:Visita guiada
ATTACH;FMTTYPE=image/jpeg:https://www.ilcyl.com/wp-content/uploads/2026/01/31-01-2026.-Sabados-en-Palacio.-A4.jpg
END:VEVENT
BEGIN:VEVENT
DTSTART;TZID=Europe/Madrid:20260131T200000
DTEND;TZID=Europe/Madrid:20260131T220000
DTSTAMP:20260419T143816
CREATED:20260108T170847Z
LAST-MODIFIED:20260108T172116Z
UID:11785-1769889600-1769896800@www.ilcyl.com
SUMMARY:'Susurros. La palabra hecha música'\, con Santiago Auserón. Palencia
DESCRIPTION:El Instituto Castellano y Leonés de la Lengua y el Ayuntamiento de Palencia organizan el sábado\, 31 de enero\, a las 20:00 horas\, en el Teatro Principal de Palencia el ciclo de conciertos acústicos ‘Susurros. La palabra hecha música’\, con la actuación del cantante y compositor Santiago Auserón. El cantautor inaugura este ciclo de conciertos con un concierto acústico que refleja su inconfundible personalidad sonora. Su propuesta funde diversas tradiciones de la música popular española e internacional en un repertorio de gran coherencia formal\, donde letras de exigencia poética conviven con influencias del rock\, el jazz y las músicas afrolatinas\, abriendo nuevos caminos para la canción en español. \n\nDía: Sábado\, 31 de enero de 2026\nHora: 20:00 horas\nLugar: Teatro Principal. Palencia\n Entradas: Taquilla del Teatro Principal\n\n 
URL:https://www.ilcyl.com/evento/susurrros-la-palabra-hecha-musica-con-santiago-auseron-palencia/
CATEGORIES:Música
ATTACH;FMTTYPE=image/jpeg:https://www.ilcyl.com/wp-content/uploads/2026/01/Cartel-provisional-Palencia.jpg
END:VEVENT
END:VCALENDAR