BEGIN:VCALENDAR
VERSION:2.0
PRODID:-//ILCYL - ECPv5.14.1//NONSGML v1.0//EN
CALSCALE:GREGORIAN
METHOD:PUBLISH
X-WR-CALNAME:ILCYL
X-ORIGINAL-URL:https://www.ilcyl.com
X-WR-CALDESC:Events for ILCYL
REFRESH-INTERVAL;VALUE=DURATION:PT1H
X-Robots-Tag:noindex
X-PUBLISHED-TTL:PT1H
BEGIN:VTIMEZONE
TZID:Europe/Madrid
BEGIN:DAYLIGHT
TZOFFSETFROM:+0100
TZOFFSETTO:+0200
TZNAME:CEST
DTSTART:20260329T010000
END:DAYLIGHT
BEGIN:STANDARD
TZOFFSETFROM:+0200
TZOFFSETTO:+0100
TZNAME:CET
DTSTART:20261025T010000
END:STANDARD
END:VTIMEZONE
BEGIN:VEVENT
DTSTART;VALUE=DATE:20260116
DTEND;VALUE=DATE:20260215
DTSTAMP:20260421T023939
CREATED:20260114T113938Z
LAST-MODIFIED:20260114T113938Z
UID:11829-1768521600-1771113599@www.ilcyl.com
SUMMARY:Exposición 'El vuelo del mirlo'. Casa de Cultura. Aranda de Duero
DESCRIPTION:La Casa de Cultura de Aranda de Duero acoge desde el 16 de enero hasta el próximo 14 de febrero la exposición ‘El vuelo del mirlo’\, muestra producida por el Instituto Castellano y Leonés de la Lengua e instalada en este equipamiento cultural con la colaboración del Ayuntamiento arandino\, patrono de la institución. Este montaje expositivo recrea los orígenes del proyecto editorial desplegado en la revista de fotografía y literatura ‘Mirlo’ por el fotógrafo y diseñador Asís G. Ayerbe (Valladolid\, 1978) y el escritor Óscar Esquivias (Burgos\, 1972)\, editores de la muestra y comisarios de este proyecto expositivo itinerante
URL:https://www.ilcyl.com/evento/exposicion-el-vuelo-del-mirlo-casa-de-cultura-aranda-de-duero/
CATEGORIES:Exposición
ATTACH;FMTTYPE=image/jpeg:https://www.ilcyl.com/wp-content/uploads/2026/01/cartel-expo-aranda-El-vuelo-del-mirlo.jpg
END:VEVENT
BEGIN:VEVENT
DTSTART;TZID=Europe/Madrid:20260207T110000
DTEND;TZID=Europe/Madrid:20260207T140000
DTSTAMP:20260421T023939
CREATED:20260202T161637Z
LAST-MODIFIED:20260202T161801Z
UID:11902-1770462000-1770472800@www.ilcyl.com
SUMMARY:Los Sábados en Palacio. Visita guiada al Palacio de la Isla de Burgos
DESCRIPTION:El Instituto Castellano y Leonés de la Lengua organiza el sábado\, 7 de febrero\, en horario de 11:00 a 14:00 horas\, la propuesta divulgativa ‘Los Sábados en Palacio’\, una nueva jornada de puertas abiertas a su sede\, el Palacio de la Isla\, que incluye una visita guiada (12:00 horas) de carácter gratuito que acerca al visitante la historia de uno de los edificios más emblemáticos de la capital burgalesa. Esta propuesta quiere también dar a conocer el trabajo de la institución en el ámbito de la investigación de orígenes del español y en la promoción de la literatura de la Comunidad.
URL:https://www.ilcyl.com/evento/los-sabados-en-palacio-visita-guiada-al-palacio-de-la-isla-de-burgos-3/
CATEGORIES:Visita guiada
ATTACH;FMTTYPE=image/jpeg:https://www.ilcyl.com/wp-content/uploads/2026/02/07-02-2026.-Sabados-en-Palacio.-A4.jpg
END:VEVENT
BEGIN:VEVENT
DTSTART;TZID=Europe/Madrid:20260207T200000
DTEND;TZID=Europe/Madrid:20260207T220000
DTSTAMP:20260421T023939
CREATED:20260108T171535Z
LAST-MODIFIED:20260108T171535Z
UID:11788-1770494400-1770501600@www.ilcyl.com
SUMMARY:‘Susurros. La palabra hecha música’\, con Luis Pastor. Palencia
DESCRIPTION:El Instituto Castellano y Leonés de la Lengua y el Ayuntamiento de Palencia organizan el sábado\, 7 de febrero\, a las 20:00 horas\, en el Teatro Principal de Palencia el ciclo de conciertos acústicos ‘Susurros. La palabra hecha música’\, con la actuación del compositor Luis Pastor\, referente indiscutible de la canción de autor desde los años setenta. El artista extremeño presentará Extremadura fado\, un trabajo profundamente íntimo creado junto a Lourdes Guerra\, que nace del amor\, la memoria y la raíz. El disco es a la vez un homenaje sentido a Extremadura y un diálogo natural con Portugal y Cabo Verde\, territorios decisivos en su trayectoria. Pastor se muestra aquí en estado puro\, con canciones transparentes y emocionantes que reivindican la poesía como forma de resistencia y celebración de la vida. \n\nDía: Sábado\, 7 de febrero de 2026\nHora: 20:00 horas\nLugar: Teatro Principal. Palencia\n Entradas: Taquilla del Teatro Principal
URL:https://www.ilcyl.com/evento/susurros-la-palabra-hecha-musica-con-luis-pastor-palencia/
CATEGORIES:Música
ATTACH;FMTTYPE=image/jpeg:https://www.ilcyl.com/wp-content/uploads/2026/01/Cartel-provisional-Palencia.jpg
END:VEVENT
END:VCALENDAR