BEGIN:VCALENDAR
VERSION:2.0
PRODID:-//ILCYL - ECPv5.14.1//NONSGML v1.0//EN
CALSCALE:GREGORIAN
METHOD:PUBLISH
X-WR-CALNAME:ILCYL
X-ORIGINAL-URL:https://www.ilcyl.com
X-WR-CALDESC:Events for ILCYL
REFRESH-INTERVAL;VALUE=DURATION:PT1H
X-Robots-Tag:noindex
X-PUBLISHED-TTL:PT1H
BEGIN:VTIMEZONE
TZID:Europe/Madrid
BEGIN:DAYLIGHT
TZOFFSETFROM:+0100
TZOFFSETTO:+0200
TZNAME:CEST
DTSTART:20260329T010000
END:DAYLIGHT
BEGIN:STANDARD
TZOFFSETFROM:+0200
TZOFFSETTO:+0100
TZNAME:CET
DTSTART:20261025T010000
END:STANDARD
END:VTIMEZONE
BEGIN:VEVENT
DTSTART;TZID=Europe/Madrid:20260409T193000
DTEND;TZID=Europe/Madrid:20260409T203000
DTSTAMP:20260419T141649
CREATED:20260313T130733Z
LAST-MODIFIED:20260313T130733Z
UID:12144-1775763000-1775766600@www.ilcyl.com
SUMMARY:Presentación del libro 'Colirio para cangrejos' (Eolas)\, de Adrián Pérez. Burgos
DESCRIPTION:El Instituto Castellano y Leonés de la Lengua programa el jueves\, 9 de abril\, a las 19:30 horas\, en el Palacio de la Isla de Burgos\, la presentación del libro ‘Colirio para cangrejos‘ (Eolas Ediciones)\, de Adrián Pérez Avendaño. La presentación\, organizada con la colaboración de la Asociación de Libreros de Burgos\, contará también con la presencia del filólogo e historiador Ángel Moral de Gracia\, que conversará con el autor en torno a este título. \n\nDía: Jueves\, 9 de abril de 2026\nHora: 19:30 horas\nLugar: Palacio de la Isla. Paseo de la Isla nº 1 Burgos\nEntrada: libre hasta completar aforo.\n\n  \n 
URL:https://www.ilcyl.com/evento/presentacion-del-libro-colirio-para-cangrejos-eolas-de-adrian-perez-burgos/
CATEGORIES:Actividad literaria,Encuentro
ATTACH;FMTTYPE=image/jpeg:https://www.ilcyl.com/wp-content/uploads/2026/03/09-04-2026.-Palacio-de-la-Isla.-Presentacion-Colirio-para-cangrejos-Adrian-Perez.jpg
END:VEVENT
END:VCALENDAR