BEGIN:VCALENDAR
VERSION:2.0
PRODID:-//ILCYL - ECPv5.14.1//NONSGML v1.0//EN
CALSCALE:GREGORIAN
METHOD:PUBLISH
X-WR-CALNAME:ILCYL
X-ORIGINAL-URL:https://www.ilcyl.com
X-WR-CALDESC:Events for ILCYL
REFRESH-INTERVAL;VALUE=DURATION:PT1H
X-Robots-Tag:noindex
X-PUBLISHED-TTL:PT1H
BEGIN:VTIMEZONE
TZID:Europe/Madrid
BEGIN:DAYLIGHT
TZOFFSETFROM:+0100
TZOFFSETTO:+0200
TZNAME:CEST
DTSTART:20230326T010000
END:DAYLIGHT
BEGIN:STANDARD
TZOFFSETFROM:+0200
TZOFFSETTO:+0100
TZNAME:CET
DTSTART:20231029T010000
END:STANDARD
END:VTIMEZONE
BEGIN:VEVENT
DTSTART;TZID=Europe/Madrid:20230616T000000
DTEND;TZID=Europe/Madrid:20230716T000000
DTSTAMP:20260419T185437
CREATED:20230608T151248Z
LAST-MODIFIED:20230714T104046Z
UID:5646-1686873600-1689465600@www.ilcyl.com
SUMMARY:Exposición 'Bajo pluma de mujer'. Centro Cultural San Agustín. El Burgo de Osma (Soria)
DESCRIPTION:El Centro Cultural San Agustín de El Burgo de Osma acoge desde el viernes 16 de junio hasta el domingo 16 de julio la exposición ‘Bajo pluma de mujer’\, proyecto producido por el Instituto Castellano y Leonés de la Lengua y la Casa-Museo Unamuno de la Universidad de Salamanca. La muestra recoge la investigación realizada sobre un corpus epistolar de cartas de más de 600 mujeres.
URL:https://www.ilcyl.com/evento/la-muestra-bajo-pluma-de-mujer-llega-a-el-burgo-de-osma/
CATEGORIES:Exposición
ATTACH;FMTTYPE=image/jpeg:https://www.ilcyl.com/wp-content/uploads/2023/06/Cartel-Bajo-Pluma-de-Mujer.-Burgo-de-Osma-scaled.jpg
END:VEVENT
BEGIN:VEVENT
DTSTART;VALUE=DATE:20230705
DTEND;VALUE=DATE:20230904
DTSTAMP:20260419T185438
CREATED:20230609T124036Z
LAST-MODIFIED:20230704T075635Z
UID:5714-1688515200-1693785599@www.ilcyl.com
SUMMARY:Exposición 'Gabino-Alejandro Carriedo'. LECRÁC.  Palencia
DESCRIPTION:El Centro Cultural LECRÁC de Palencia acoge la exposición ‘Gabino-Alejandro  Carriedo. Integridad y vanguardia’\, organizada con la Fundación Jorge Guillén coincidiendo con el centenario de nacimiento del poeta palentino Gabino-Alejandro Carriedo \, referente de la poesía española de vanguardia. Su trayectoria lo sitúa en el núcleo creativo de las diferentes corrientes poéticas de la segunda mitad del siglo XX.
URL:https://www.ilcyl.com/evento/exposicion-gabino-alejandro-carriedo-lecrac-palencia/
CATEGORIES:Exposición
ATTACH;FMTTYPE=image/jpeg:https://www.ilcyl.com/wp-content/uploads/2023/06/OK-Cartel-Exposicion-Carriedo-scaled.jpg
END:VEVENT
END:VCALENDAR