BEGIN:VCALENDAR
VERSION:2.0
PRODID:-//ILCYL - ECPv5.14.1//NONSGML v1.0//EN
CALSCALE:GREGORIAN
METHOD:PUBLISH
X-WR-CALNAME:ILCYL
X-ORIGINAL-URL:https://www.ilcyl.com
X-WR-CALDESC:Events for ILCYL
REFRESH-INTERVAL;VALUE=DURATION:PT1H
X-Robots-Tag:noindex
X-PUBLISHED-TTL:PT1H
BEGIN:VTIMEZONE
TZID:Europe/Madrid
BEGIN:DAYLIGHT
TZOFFSETFROM:+0100
TZOFFSETTO:+0200
TZNAME:CEST
DTSTART:20220327T010000
END:DAYLIGHT
BEGIN:STANDARD
TZOFFSETFROM:+0200
TZOFFSETTO:+0100
TZNAME:CET
DTSTART:20221030T010000
END:STANDARD
END:VTIMEZONE
BEGIN:VEVENT
DTSTART;TZID=Europe/Madrid:20221022T210000
DTEND;TZID=Europe/Madrid:20221023T100000
DTSTAMP:20260420T111431
CREATED:20220330T182419Z
LAST-MODIFIED:20221021T102317Z
UID:3030-1666472400-1666519200@www.ilcyl.com
SUMMARY:ACTIVIDAD 8-12 AÑOSLas Noches de Palacio
DESCRIPTION:Pasa una noche inolvidable en el Palacio de la Isla realizando talleres y actividades que te llevarán a construir tu propio campamento para pasar la noche\, a descubrir libros encantados y a buscar las letras robadas de nuestro alfabeto. Cada noche estará dedicada a un libro diferente.
URL:https://www.ilcyl.com/evento/las-noches-de-palacio-5/
CATEGORIES:Las Noches de Palacio
END:VEVENT
BEGIN:VEVENT
DTSTART;TZID=Europe/Madrid:20220924T210000
DTEND;TZID=Europe/Madrid:20220925T100000
DTSTAMP:20260420T111431
CREATED:20220330T182244Z
LAST-MODIFIED:20220920T073145Z
UID:3027-1664053200-1664100000@www.ilcyl.com
SUMMARY:ACTIVIDAD 8-12 AÑOSLas Noches de Palacio
DESCRIPTION:Pasa una noche inolvidable en el Palacio de la Isla realizando talleres y actividades que te llevarán a construir tu propio campamento para pasar la noche\, a descubrir libros encantados y a buscar las letras robadas de nuestro alfabeto. Cada noche estará dedicada a un libro diferente.
URL:https://www.ilcyl.com/evento/las-noches-de-palacio-4/
CATEGORIES:Las Noches de Palacio
END:VEVENT
BEGIN:VEVENT
DTSTART;TZID=Europe/Madrid:20220611T210000
DTEND;TZID=Europe/Madrid:20220612T100000
DTSTAMP:20260420T111431
CREATED:20220330T182102Z
LAST-MODIFIED:20220609T082015Z
UID:3024-1654981200-1655028000@www.ilcyl.com
SUMMARY:ACTIVIDAD 8-12 AÑOSLas Noches de Palacio
DESCRIPTION:Pasa una noche inolvidable en el Palacio de la Isla realizando talleres y actividades que te llevarán a construir tu propio campamento para pasar la noche\, a descubrir libros encantados y a buscar las letras robadas de nuestro alfabeto. Cada noche estará dedicada a un libro diferente.
URL:https://www.ilcyl.com/evento/las-noches-de-palacio-3/
CATEGORIES:Las Noches de Palacio
ATTACH;FMTTYPE=image/jpeg:https://www.ilcyl.com/wp-content/uploads/2022/03/Noches-de-Palacio-11.06.22.jpg
END:VEVENT
BEGIN:VEVENT
DTSTART;TZID=Europe/Madrid:20220402T210000
DTEND;TZID=Europe/Madrid:20220403T100000
DTSTAMP:20260420T111431
CREATED:20220330T181749Z
LAST-MODIFIED:20220331T080611Z
UID:3018-1648933200-1648980000@www.ilcyl.com
SUMMARY:ACTIVIDAD 8-12 AÑOS Las Noches de Palacio
DESCRIPTION:Pasa una noche inolvidable en el Palacio de la Isla realizando talleres y actividades que te llevarán a construir tu propio campamento para pasar la noche\, a descubrir libros encantados y a buscar las letras robadas de nuestro alfabeto. Cada noche estará dedicada a un libro diferente.
URL:https://www.ilcyl.com/evento/las-noches-de-palacio/
CATEGORIES:Las Noches de Palacio
END:VEVENT
END:VCALENDAR