BEGIN:VCALENDAR
VERSION:2.0
PRODID:-//ILCYL - ECPv5.14.1//NONSGML v1.0//EN
CALSCALE:GREGORIAN
METHOD:PUBLISH
X-WR-CALNAME:ILCYL
X-ORIGINAL-URL:https://www.ilcyl.com
X-WR-CALDESC:Events for ILCYL
REFRESH-INTERVAL;VALUE=DURATION:PT1H
X-Robots-Tag:noindex
X-PUBLISHED-TTL:PT1H
BEGIN:VTIMEZONE
TZID:Europe/Madrid
BEGIN:DAYLIGHT
TZOFFSETFROM:+0100
TZOFFSETTO:+0200
TZNAME:CEST
DTSTART:20220327T010000
END:DAYLIGHT
BEGIN:STANDARD
TZOFFSETFROM:+0200
TZOFFSETTO:+0100
TZNAME:CET
DTSTART:20221030T010000
END:STANDARD
END:VTIMEZONE
BEGIN:VEVENT
DTSTART;TZID=Europe/Madrid:20220611T103000
DTEND;TZID=Europe/Madrid:20220611T113000
DTSTAMP:20260422T133925
CREATED:20220330T170941Z
LAST-MODIFIED:20220609T082152Z
UID:2919-1654943400-1654947000@www.ilcyl.com
SUMMARY:TALLER 4-7 AÑOSDónde escribían nuestros antepasados
DESCRIPTION:
URL:https://www.ilcyl.com/evento/donde-escribian-nuestros-antepasados-2/
CATEGORIES:Talleres
ATTACH;FMTTYPE=image/jpeg:https://www.ilcyl.com/wp-content/uploads/2022/03/Sabado-11-y-12-de-junio.jpg
END:VEVENT
BEGIN:VEVENT
DTSTART;TZID=Europe/Madrid:20220611T123000
DTEND;TZID=Europe/Madrid:20220611T133000
DTSTAMP:20260422T133925
CREATED:20220330T171050Z
LAST-MODIFIED:20220610T095635Z
UID:2922-1654950600-1654954200@www.ilcyl.com
SUMMARY:TALLER 8-12 AÑOSPapiros\, pergaminos y papeles
DESCRIPTION:
URL:https://www.ilcyl.com/evento/papiros-pergaminos-y-papeles-2/
CATEGORIES:Talleres
END:VEVENT
BEGIN:VEVENT
DTSTART;TZID=Europe/Madrid:20220612T110000
DTEND;TZID=Europe/Madrid:20220612T120000
DTSTAMP:20260422T133925
CREATED:20220330T171216Z
LAST-MODIFIED:20220610T122054Z
UID:2925-1655031600-1655035200@www.ilcyl.com
SUMMARY:TALLER FAMILIARDe las tablillas al móvil
DESCRIPTION:
URL:https://www.ilcyl.com/evento/de-las-tablillas-al-movil/
CATEGORIES:Talleres
END:VEVENT
END:VCALENDAR