BEGIN:VCALENDAR
VERSION:2.0
PRODID:-//ILCYL - ECPv5.14.1//NONSGML v1.0//EN
CALSCALE:GREGORIAN
METHOD:PUBLISH
X-WR-CALNAME:ILCYL
X-ORIGINAL-URL:https://www.ilcyl.com
X-WR-CALDESC:Events for ILCYL
REFRESH-INTERVAL;VALUE=DURATION:PT1H
X-Robots-Tag:noindex
X-PUBLISHED-TTL:PT1H
BEGIN:VTIMEZONE
TZID:Europe/Madrid
BEGIN:DAYLIGHT
TZOFFSETFROM:+0100
TZOFFSETTO:+0200
TZNAME:CEST
DTSTART:20220327T010000
END:DAYLIGHT
BEGIN:STANDARD
TZOFFSETFROM:+0200
TZOFFSETTO:+0100
TZNAME:CET
DTSTART:20221030T010000
END:STANDARD
END:VTIMEZONE
BEGIN:VEVENT
DTSTART;TZID=Europe/Madrid:20220910T103000
DTEND;TZID=Europe/Madrid:20220910T113000
DTSTAMP:20260422T083938
CREATED:20220330T173943Z
LAST-MODIFIED:20220909T104144Z
UID:2940-1662805800-1662809400@www.ilcyl.com
SUMMARY:TALLER 4-7 AÑOSArtesa\, tu primera revista
DESCRIPTION:
URL:https://www.ilcyl.com/evento/artesa-tu-primera-revista-2/
CATEGORIES:Talleres
END:VEVENT
BEGIN:VEVENT
DTSTART;TZID=Europe/Madrid:20220910T123000
DTEND;TZID=Europe/Madrid:20220910T133000
DTSTAMP:20260422T083938
CREATED:20220330T174048Z
LAST-MODIFIED:20220909T104115Z
UID:2944-1662813000-1662816600@www.ilcyl.com
SUMMARY:TALLER 8-12 AÑOSArtesa\, construye tu revista
DESCRIPTION:
URL:https://www.ilcyl.com/evento/artesa-construye-tu-revista-2/
CATEGORIES:Talleres
END:VEVENT
BEGIN:VEVENT
DTSTART;TZID=Europe/Madrid:20220911T110000
DTEND;TZID=Europe/Madrid:20220911T120000
DTSTAMP:20260422T083938
CREATED:20220330T174216Z
LAST-MODIFIED:20220909T104018Z
UID:2947-1662894000-1662897600@www.ilcyl.com
SUMMARY:TALLER FAMILIARArtesa\, revista en familia
DESCRIPTION:
URL:https://www.ilcyl.com/evento/artesa-revista-en-familia/
CATEGORIES:Talleres
END:VEVENT
BEGIN:VEVENT
DTSTART;TZID=Europe/Madrid:20220917T103000
DTEND;TZID=Europe/Madrid:20220917T113000
DTSTAMP:20260422T083938
CREATED:20220330T174324Z
LAST-MODIFIED:20220330T202800Z
UID:2950-1663410600-1663414200@www.ilcyl.com
SUMMARY:TALLER 4-7 AÑOSTaller poesía. La caja loca rima
DESCRIPTION:
URL:https://www.ilcyl.com/evento/taller-poesia-la-caja-loca-rima-2/
CATEGORIES:Talleres
END:VEVENT
BEGIN:VEVENT
DTSTART;TZID=Europe/Madrid:20220917T120000
DTEND;TZID=Europe/Madrid:20220917T130000
DTSTAMP:20260422T083938
CREATED:20220902T083537Z
LAST-MODIFIED:20220916T074948Z
UID:4775-1663416000-1663419600@www.ilcyl.com
SUMMARY:Comida de letras
DESCRIPTION:Taller infantil. \nNuevo ciclo donde literatura y gastronomía se darán la mano para descubrir sugerentes sabores. \nEn colaboración con Ferroplás
URL:https://www.ilcyl.com/evento/comida-de-letras-2/
CATEGORIES:Talleres
END:VEVENT
BEGIN:VEVENT
DTSTART;TZID=Europe/Madrid:20220917T123000
DTEND;TZID=Europe/Madrid:20220917T133000
DTSTAMP:20260422T083938
CREATED:20220330T174449Z
LAST-MODIFIED:20220330T205349Z
UID:2953-1663417800-1663421400@www.ilcyl.com
SUMMARY:TALLER 8-12 AÑOSTaller poesía. El Poetermómetro
DESCRIPTION:
URL:https://www.ilcyl.com/evento/taller-poesia-el-poetermometro-2/
CATEGORIES:Talleres
END:VEVENT
BEGIN:VEVENT
DTSTART;TZID=Europe/Madrid:20220924T103000
DTEND;TZID=Europe/Madrid:20220924T113000
DTSTAMP:20260422T083938
CREATED:20220330T174616Z
LAST-MODIFIED:20220923T091035Z
UID:2956-1664015400-1664019000@www.ilcyl.com
SUMMARY:TALLER 4-7 AÑOSPequecaligrafías
DESCRIPTION:
URL:https://www.ilcyl.com/evento/pequecaligrafias-3/
CATEGORIES:Talleres
END:VEVENT
BEGIN:VEVENT
DTSTART;TZID=Europe/Madrid:20220924T123000
DTEND;TZID=Europe/Madrid:20220924T133000
DTSTAMP:20260422T083938
CREATED:20220330T174921Z
LAST-MODIFIED:20220923T091118Z
UID:2959-1664022600-1664026200@www.ilcyl.com
SUMMARY:TALLER 8-12 AÑOSCaligrafías experimentales
DESCRIPTION:
URL:https://www.ilcyl.com/evento/caligrafias-experimentales-3/
CATEGORIES:Talleres
END:VEVENT
BEGIN:VEVENT
DTSTART;TZID=Europe/Madrid:20220925T110000
DTEND;TZID=Europe/Madrid:20220925T120000
DTSTAMP:20260422T083938
CREATED:20220330T175156Z
LAST-MODIFIED:20220330T210504Z
UID:2962-1664103600-1664107200@www.ilcyl.com
SUMMARY:TALLER FAMILIARCaligrafías decorativas
DESCRIPTION:
URL:https://www.ilcyl.com/evento/caligrafias-decorativas/
CATEGORIES:Talleres
END:VEVENT
END:VCALENDAR