BEGIN:VCALENDAR
VERSION:2.0
PRODID:-//ILCYL - ECPv5.14.1//NONSGML v1.0//EN
CALSCALE:GREGORIAN
METHOD:PUBLISH
X-WR-CALNAME:ILCYL
X-ORIGINAL-URL:https://www.ilcyl.com
X-WR-CALDESC:Events for ILCYL
REFRESH-INTERVAL;VALUE=DURATION:PT1H
X-Robots-Tag:noindex
X-PUBLISHED-TTL:PT1H
BEGIN:VTIMEZONE
TZID:Europe/Madrid
BEGIN:DAYLIGHT
TZOFFSETFROM:+0100
TZOFFSETTO:+0200
TZNAME:CEST
DTSTART:20220327T010000
END:DAYLIGHT
BEGIN:STANDARD
TZOFFSETFROM:+0200
TZOFFSETTO:+0100
TZNAME:CET
DTSTART:20221030T010000
END:STANDARD
END:VTIMEZONE
BEGIN:VEVENT
DTSTART;TZID=Europe/Madrid:20220409T103000
DTEND;TZID=Europe/Madrid:20220409T113000
DTSTAMP:20260422T185129
CREATED:20220330T161007Z
LAST-MODIFIED:20220407T112038Z
UID:2830-1649500200-1649503800@www.ilcyl.com
SUMMARY:TALLER 4-7 AÑOSPequecaligrafías
DESCRIPTION:
URL:https://www.ilcyl.com/evento/pequecaligrafias/
CATEGORIES:Talleres
ATTACH;FMTTYPE=image/jpeg:https://www.ilcyl.com/wp-content/uploads/2022/04/Cartel-Talleres-Semana-Santa-1.jpg
END:VEVENT
BEGIN:VEVENT
DTSTART;TZID=Europe/Madrid:20220409T123000
DTEND;TZID=Europe/Madrid:20220409T133000
DTSTAMP:20260422T185130
CREATED:20220330T161201Z
LAST-MODIFIED:20220407T112126Z
UID:2832-1649507400-1649511000@www.ilcyl.com
SUMMARY:TALLER 8-12 AÑOSCaligrafías experimentales
DESCRIPTION:
URL:https://www.ilcyl.com/evento/caligrafias-experimentales/
CATEGORIES:Talleres
ATTACH;FMTTYPE=image/jpeg:https://www.ilcyl.com/wp-content/uploads/2022/04/Cartel-Talleres-Semana-Santa-1.jpg
END:VEVENT
END:VCALENDAR