BEGIN:VCALENDAR
VERSION:2.0
PRODID:-//ILCYL - ECPv5.14.1//NONSGML v1.0//EN
CALSCALE:GREGORIAN
METHOD:PUBLISH
X-WR-CALNAME:ILCYL
X-ORIGINAL-URL:https://www.ilcyl.com
X-WR-CALDESC:Events for ILCYL
REFRESH-INTERVAL;VALUE=DURATION:PT1H
X-Robots-Tag:noindex
X-PUBLISHED-TTL:PT1H
BEGIN:VTIMEZONE
TZID:Europe/Madrid
BEGIN:DAYLIGHT
TZOFFSETFROM:+0100
TZOFFSETTO:+0200
TZNAME:CEST
DTSTART:20220327T010000
END:DAYLIGHT
BEGIN:STANDARD
TZOFFSETFROM:+0200
TZOFFSETTO:+0100
TZNAME:CET
DTSTART:20221030T010000
END:STANDARD
END:VTIMEZONE
BEGIN:VEVENT
DTSTART;TZID=Europe/Madrid:20220415T103000
DTEND;TZID=Europe/Madrid:20220415T113000
DTSTAMP:20260422T201116
CREATED:20220330T164225Z
LAST-MODIFIED:20220407T113228Z
UID:2862-1650018600-1650022200@www.ilcyl.com
SUMMARY:TALLER 4-7 AÑOSDónde escribían nuestros antepasados
DESCRIPTION:
URL:https://www.ilcyl.com/evento/donde-escribian-nuestros-antepasados/
CATEGORIES:Talleres
ATTACH;FMTTYPE=image/jpeg:https://www.ilcyl.com/wp-content/uploads/2022/04/Cartel-Talleres-Semana-Santa-1.jpg
END:VEVENT
BEGIN:VEVENT
DTSTART;TZID=Europe/Madrid:20220415T123000
DTEND;TZID=Europe/Madrid:20220415T133000
DTSTAMP:20260422T201116
CREATED:20220330T164318Z
LAST-MODIFIED:20220407T113308Z
UID:2865-1650025800-1650029400@www.ilcyl.com
SUMMARY:TALLER 8-12 AÑOSPapiros\, pergaminos y papeles
DESCRIPTION:
URL:https://www.ilcyl.com/evento/papiros-pergaminos-y-papeles/
CATEGORIES:Talleres
ATTACH;FMTTYPE=image/jpeg:https://www.ilcyl.com/wp-content/uploads/2022/04/Cartel-Talleres-Semana-Santa-1.jpg
END:VEVENT
END:VCALENDAR