BEGIN:VCALENDAR
VERSION:2.0
PRODID:-//ILCYL - ECPv5.14.1//NONSGML v1.0//EN
CALSCALE:GREGORIAN
METHOD:PUBLISH
X-WR-CALNAME:ILCYL
X-ORIGINAL-URL:https://www.ilcyl.com
X-WR-CALDESC:Events for ILCYL
REFRESH-INTERVAL;VALUE=DURATION:PT1H
X-Robots-Tag:noindex
X-PUBLISHED-TTL:PT1H
BEGIN:VTIMEZONE
TZID:Europe/Madrid
BEGIN:DAYLIGHT
TZOFFSETFROM:+0100
TZOFFSETTO:+0200
TZNAME:CEST
DTSTART:20220327T010000
END:DAYLIGHT
BEGIN:STANDARD
TZOFFSETFROM:+0200
TZOFFSETTO:+0100
TZNAME:CET
DTSTART:20221030T010000
END:STANDARD
END:VTIMEZONE
BEGIN:VEVENT
DTSTART;TZID=Europe/Madrid:20220612T110000
DTEND;TZID=Europe/Madrid:20220612T120000
DTSTAMP:20260422T152947
CREATED:20220330T171216Z
LAST-MODIFIED:20220610T122054Z
UID:2925-1655031600-1655035200@www.ilcyl.com
SUMMARY:TALLER FAMILIARDe las tablillas al móvil
DESCRIPTION:
URL:https://www.ilcyl.com/evento/de-las-tablillas-al-movil/
CATEGORIES:Talleres
END:VEVENT
END:VCALENDAR