BEGIN:VCALENDAR
VERSION:2.0
PRODID:-//ILCYL - ECPv5.14.1//NONSGML v1.0//EN
CALSCALE:GREGORIAN
METHOD:PUBLISH
X-WR-CALNAME:ILCYL
X-ORIGINAL-URL:https://www.ilcyl.com
X-WR-CALDESC:Events for ILCYL
REFRESH-INTERVAL;VALUE=DURATION:PT1H
X-Robots-Tag:noindex
X-PUBLISHED-TTL:PT1H
BEGIN:VTIMEZONE
TZID:Europe/Madrid
BEGIN:DAYLIGHT
TZOFFSETFROM:+0100
TZOFFSETTO:+0200
TZNAME:CEST
DTSTART:20220327T010000
END:DAYLIGHT
BEGIN:STANDARD
TZOFFSETFROM:+0200
TZOFFSETTO:+0100
TZNAME:CET
DTSTART:20221030T010000
END:STANDARD
END:VTIMEZONE
BEGIN:VEVENT
DTSTART;TZID=Europe/Madrid:20220910T103000
DTEND;TZID=Europe/Madrid:20220910T113000
DTSTAMP:20260422T102515
CREATED:20220330T173943Z
LAST-MODIFIED:20220909T104144Z
UID:2940-1662805800-1662809400@www.ilcyl.com
SUMMARY:TALLER 4-7 AÑOSArtesa\, tu primera revista
DESCRIPTION:
URL:https://www.ilcyl.com/evento/artesa-tu-primera-revista-2/
CATEGORIES:Talleres
END:VEVENT
BEGIN:VEVENT
DTSTART;TZID=Europe/Madrid:20220910T123000
DTEND;TZID=Europe/Madrid:20220910T133000
DTSTAMP:20260422T102515
CREATED:20220330T174048Z
LAST-MODIFIED:20220909T104115Z
UID:2944-1662813000-1662816600@www.ilcyl.com
SUMMARY:TALLER 8-12 AÑOSArtesa\, construye tu revista
DESCRIPTION:
URL:https://www.ilcyl.com/evento/artesa-construye-tu-revista-2/
CATEGORIES:Talleres
END:VEVENT
END:VCALENDAR