BEGIN:VCALENDAR
VERSION:2.0
PRODID:-//ILCYL - ECPv5.14.1//NONSGML v1.0//EN
CALSCALE:GREGORIAN
METHOD:PUBLISH
X-WR-CALNAME:ILCYL
X-ORIGINAL-URL:https://www.ilcyl.com
X-WR-CALDESC:Events for ILCYL
REFRESH-INTERVAL;VALUE=DURATION:PT1H
X-Robots-Tag:noindex
X-PUBLISHED-TTL:PT1H
BEGIN:VTIMEZONE
TZID:Europe/Madrid
BEGIN:DAYLIGHT
TZOFFSETFROM:+0100
TZOFFSETTO:+0200
TZNAME:CEST
DTSTART:20220327T010000
END:DAYLIGHT
BEGIN:STANDARD
TZOFFSETFROM:+0200
TZOFFSETTO:+0100
TZNAME:CET
DTSTART:20221030T010000
END:STANDARD
END:VTIMEZONE
BEGIN:VEVENT
DTSTART;TZID=Europe/Madrid:20220924T103000
DTEND;TZID=Europe/Madrid:20220924T113000
DTSTAMP:20260422T102615
CREATED:20220330T174616Z
LAST-MODIFIED:20220923T091035Z
UID:2956-1664015400-1664019000@www.ilcyl.com
SUMMARY:TALLER 4-7 AÑOSPequecaligrafías
DESCRIPTION:
URL:https://www.ilcyl.com/evento/pequecaligrafias-3/
CATEGORIES:Talleres
END:VEVENT
BEGIN:VEVENT
DTSTART;TZID=Europe/Madrid:20220924T123000
DTEND;TZID=Europe/Madrid:20220924T133000
DTSTAMP:20260422T102615
CREATED:20220330T174921Z
LAST-MODIFIED:20220923T091118Z
UID:2959-1664022600-1664026200@www.ilcyl.com
SUMMARY:TALLER 8-12 AÑOSCaligrafías experimentales
DESCRIPTION:
URL:https://www.ilcyl.com/evento/caligrafias-experimentales-3/
CATEGORIES:Talleres
END:VEVENT
END:VCALENDAR