BEGIN:VCALENDAR
VERSION:2.0
PRODID:-//ILCYL - ECPv5.14.1//NONSGML v1.0//EN
CALSCALE:GREGORIAN
METHOD:PUBLISH
X-WR-CALNAME:ILCYL
X-ORIGINAL-URL:https://www.ilcyl.com
X-WR-CALDESC:Events for ILCYL
REFRESH-INTERVAL;VALUE=DURATION:PT1H
X-Robots-Tag:noindex
X-PUBLISHED-TTL:PT1H
BEGIN:VTIMEZONE
TZID:Europe/Madrid
BEGIN:DAYLIGHT
TZOFFSETFROM:+0100
TZOFFSETTO:+0200
TZNAME:CEST
DTSTART:20240331T010000
END:DAYLIGHT
BEGIN:STANDARD
TZOFFSETFROM:+0200
TZOFFSETTO:+0100
TZNAME:CET
DTSTART:20241027T010000
END:STANDARD
END:VTIMEZONE
BEGIN:VEVENT
DTSTART;TZID=Europe/Madrid:20241109T110000
DTEND;TZID=Europe/Madrid:20241109T140000
DTSTAMP:20260420T135707
CREATED:20241107T172249Z
LAST-MODIFIED:20241107T172351Z
UID:8510-1731150000-1731160800@www.ilcyl.com
SUMMARY:Taller de escritura creativa ‘El gozo de escribir’. Berlanga de Duero
DESCRIPTION:La Diputación de Soria y el Instituto Castellano y Leonés de la Lengua organizan en Berlanga de Duero el taller de escritura creativa ‘El gozo de escribir’\, programado en dos sesiones los sábados 9 y 23 de noviembre en horario de 11:00 a 14:00 horas en el salón de actos del Ayuntamiento. Este taller\, dirigido por el escritor Jesús Pérez Saiz\, director y profesor de la Escuela de Escritores de Burgos\, tiene el objetivo de acercar la  práctica de la escritura de manera divertida y sencilla.
URL:https://www.ilcyl.com/evento/taller-de-escritura-creativa-el-gozo-de-escribir-berlanga-de-duero-3/
CATEGORIES:Talleres
ATTACH;FMTTYPE=image/jpeg:https://www.ilcyl.com/wp-content/uploads/2024/10/09-11-2024.-Berlanga-de-Duero.-Jesus-Perez-El-gozo-de-escribir.-RRSS-scaled.jpg
END:VEVENT
END:VCALENDAR