BEGIN:VCALENDAR
VERSION:2.0
PRODID:-//ILCYL - ECPv5.14.1//NONSGML v1.0//EN
CALSCALE:GREGORIAN
METHOD:PUBLISH
X-WR-CALNAME:ILCYL
X-ORIGINAL-URL:https://www.ilcyl.com
X-WR-CALDESC:Events for ILCYL
REFRESH-INTERVAL;VALUE=DURATION:PT1H
X-Robots-Tag:noindex
X-PUBLISHED-TTL:PT1H
BEGIN:VTIMEZONE
TZID:Europe/Madrid
BEGIN:DAYLIGHT
TZOFFSETFROM:+0100
TZOFFSETTO:+0200
TZNAME:CEST
DTSTART:20250330T010000
END:DAYLIGHT
BEGIN:STANDARD
TZOFFSETFROM:+0200
TZOFFSETTO:+0100
TZNAME:CET
DTSTART:20251026T010000
END:STANDARD
END:VTIMEZONE
BEGIN:VEVENT
DTSTART;TZID=Europe/Madrid:20250901T080000
DTEND;TZID=Europe/Madrid:20250925T170000
DTSTAMP:20260422T122745
CREATED:20250829T083300Z
LAST-MODIFIED:20250829T083300Z
UID:10610-1756713600-1758819600@www.ilcyl.com
SUMMARY:Exposición 'Ciertos deslumbramientos' San Cristóbal de la Cuesta (Salamanca)
DESCRIPTION:La Diputación de Salamanca y el Instituto Castellano y Leonés de la Lengua programan en el Centro Sociocultural ‘Casa de la Maestra’ de San Cristóbal de la Cuesta con la colaboración del Ayuntamiento\, entre el 1 y el 25 de septiembre\, la exposición de fotografía ‘Ciertos deslumbramientos’\, proyecto que integra 24 fotografías de distintos tamaños del fotógrafo leonés José Ramón Vega\, que se presentan acompañadas por textos poéticos de Tomás Sánchez Santiago\, escritor zamorano afincado en León. Esta exposición se enmarca en el Circuito de Exposiciones Itinerantes ‘por la difusión del arte y la cultura en el entorno rural’ que la Diputación de Salamanca\, la Junta de Castilla y León y el Instituto Castellano y Leonés de la Lengua desarrollan durante este año en distintos municipios salmantinos.
URL:https://www.ilcyl.com/evento/exposicion-ciertos-deslumbramientos-san-cristobal-de-la-cuesta-salamanca/
CATEGORIES:Exposición
ATTACH;FMTTYPE=image/jpeg:https://www.ilcyl.com/wp-content/uploads/2025/08/Cartel-Ciertos-deslumbramientos.-San-Cristobal-de-la-Cuesta-Salamanca-RRSS.jpg
END:VEVENT
BEGIN:VEVENT
DTSTART;VALUE=DATE:20250902
DTEND;VALUE=DATE:20250930
DTSTAMP:20260422T122745
CREATED:20250829T105651Z
LAST-MODIFIED:20250829T105651Z
UID:10620-1756771200-1759190399@www.ilcyl.com
SUMMARY:Exposición 'Bajo pluma de mujer'. La Alhóndiga. Zamora
DESCRIPTION:El Centro Cultural La Alhóndiga de Zamora acoge desde el 2 de septiembre hasta el 29 de septiembre la exposición itinerante ‘Bajo pluma de mujer’\, proyecto expositivo producido por el Instituto Castellano y Leonés de la Lengua con la colaboración de la Casa Museo Unamuno de la Universidad de Salamanca y el Ayuntamiento zamorano.\nEste proyecto expositivo se basa en la investigación emprendida por la Universidad de Salamanca en torno a una extensa selección de cartas enviadas a Miguel de Unamuno en el primer tercio del siglo XX\, que se encuentran depositadas en la Casa-Museo Unamuno. Maribel Rodríguez Fidalgo\, Adriana Paíno Ambrosio y Ana Chaguaceda Toledano (USAL) son las comisarias de este montaje\, que integra un material testimonial de gran valor y riqueza\, desconocido hasta la fecha
URL:https://www.ilcyl.com/evento/exposicion-bajo-pluma-de-mujer-la-alhondiga-zamora/
CATEGORIES:Exposición
ATTACH;FMTTYPE=image/jpeg:https://www.ilcyl.com/wp-content/uploads/2025/08/Cartel-Bajo-Pluma-de-Mujer.-Zamora-scaled.jpg
END:VEVENT
BEGIN:VEVENT
DTSTART;TZID=Europe/Madrid:20250922T193000
DTEND;TZID=Europe/Madrid:20250922T203000
DTSTAMP:20260422T122745
CREATED:20250915T151606Z
LAST-MODIFIED:20250915T151607Z
UID:10739-1758569400-1758573000@www.ilcyl.com
SUMMARY:'Contando la música'\, con José Luis López Antón. 'Italiana' Valladolid
DESCRIPTION:El Ayuntamiento de Valladolid y el Instituto Castellano y Leonés de la Lengua organizan el lunes\, 22 de septiembre\, a las 19:30 horas\, en la Biblioteca Pública de Castilla y León una nueva sesión de ‘Contando la música’\, la charla de apreciación musical que imparte José Luis López Antón\, director de la Orquesta Sinfónica de Ávila. En este encuentro con la música clásica\, analizará la Sinfonía n.º 4 en La mayor\, Op. 90\, Italiana\, de Félix Mendelssohn\, compuesta entre 1830 y 1833\, inspirada en el viaje que el compositor realizó por Italia.
URL:https://www.ilcyl.com/evento/contando-la-musica-con-jose-luis-lopez-anton-italiana-valladolid/
CATEGORIES:Conferencia,Música
ATTACH;FMTTYPE=image/jpeg:https://www.ilcyl.com/wp-content/uploads/2025/09/2025-09-22.-Contando-la-musica-Biblioteca-de-Castilla-y-Leon.Sesion-VIII.-A4-scaled.jpg
END:VEVENT
BEGIN:VEVENT
DTSTART;TZID=Europe/Madrid:20250923T193000
DTEND;TZID=Europe/Madrid:20250923T200000
DTSTAMP:20260422T122745
CREATED:20250731T123846Z
LAST-MODIFIED:20250731T123846Z
UID:10580-1758655800-1758657600@www.ilcyl.com
SUMMARY:'Esenciales'\, con José Ignacio García. Burgos
DESCRIPTION:El Instituto Castellano y Leonés de la Lengua organiza el martes\, 23 de septiembre\, a las 19:30 horas\, en el Palacio de la Isla de Burgos\, la primera sesión de ‘Esenciales’\, nuevo ciclo literario dirigido por el escritor y crítico literario José Ignacio García\, en el que ofrecerá un perfil de nueve escritores de Castilla y León cuyo trabajo narrativo y poético les convierte en ‘esenciales’ debido a que su dilatada y reconocida trayectoria\, su madurez narrativa y el bagaje que aportan a la etnografía y la cultura de la Comunidad les hace ser ‘imprescindibles’.
URL:https://www.ilcyl.com/evento/esenciales-con-jose-ignacio-garcia-burgos/
CATEGORIES:Conferencia
ATTACH;FMTTYPE=image/jpeg:https://www.ilcyl.com/wp-content/uploads/2025/07/23-09-2025.-Palacio-de-la-Isla-de-Burgos.-Jose-Ignacio-Garcia.-Esenciales-A4-scaled.jpg
END:VEVENT
BEGIN:VEVENT
DTSTART;TZID=Europe/Madrid:20250923T200000
DTEND;TZID=Europe/Madrid:20250923T210000
DTSTAMP:20260422T122745
CREATED:20250916T144538Z
LAST-MODIFIED:20250916T144538Z
UID:10748-1758657600-1758661200@www.ilcyl.com
SUMMARY:Proyección del documental 'Bajo pluma de mujer'. Zamora
DESCRIPTION:El Centro Cultural La Alhóndiga de Zamora acoge el martes\, 23 de septiembre\, a las 20:00 horas\, la proyección del documental ’Bajo pluma de mujer’\, proyecto audiovisual que recoge el trabajo de investigación emprendido por la Casa Museo Unamuno de la Universidad de Salamanca\, que complementa a la exposición ‘Bajo pluma de mujer’ que el Instituto Castellano y Leonés de la Lengua y el Ayuntamiento de Zamora programan entre el 2 y el 29 de septiembre en este equipamiento cultural. La proyección va acompañada de un coloquio\, coordinado por las comisarias de la exposición: Maribel R. Fidalgo\, Adriana Paíno y Ana Chaguaceda
URL:https://www.ilcyl.com/evento/proyeccion-del-documental-bajo-pluma-de-mujer-zamora/
CATEGORIES:Conferencia,Exposición
ATTACH;FMTTYPE=image/jpeg:https://www.ilcyl.com/wp-content/uploads/2025/09/23.09.2025-Cartel-Documental-Bajo-Pluma-de-Mujer.-Zamora.-A4-scaled.jpg
END:VEVENT
BEGIN:VEVENT
DTSTART;TZID=Europe/Madrid:20250926T190000
DTEND;TZID=Europe/Madrid:20250926T200000
DTSTAMP:20260422T122745
CREATED:20250731T124512Z
LAST-MODIFIED:20250731T125108Z
UID:10583-1758913200-1758916800@www.ilcyl.com
SUMMARY:Recital '13 sonetos y una sirena' por Daniel Pérez. Segovia
DESCRIPTION:El Instituto Castellano y Leonés de la Lengua y el Ayuntamiento de Segovia organizan el viernes\, 26 de septiembre\, a las 19:00 horas\, en la Biblioteca Pública de Segovia\, el recital ’13 sonetos y una sirena’\, concierto para voz y guitarra dirigido por el zamorano Daniel Pérez.
URL:https://www.ilcyl.com/evento/recital-13-sonetos-y-una-sirena-por-daniel-perez-segovia/
CATEGORIES:Música
ATTACH;FMTTYPE=image/jpeg:https://www.ilcyl.com/wp-content/uploads/2025/07/26-09-2025.-Biblioteca-Publica-de-Segovia.-Daniel-Perez.-13-Poetas-y-una-Sirena.-A4-scaled.jpg
END:VEVENT
BEGIN:VEVENT
DTSTART;TZID=Europe/Madrid:20250926T200000
DTEND;TZID=Europe/Madrid:20250926T213000
DTSTAMP:20260422T122745
CREATED:20250728T123420Z
LAST-MODIFIED:20250916T151207Z
UID:10553-1758916800-1758922200@www.ilcyl.com
SUMMARY:Fetén Fetén. Festival Villar de los Mundos. Villar de los Barrios
DESCRIPTION:La XIII edición del Festival Villar de los Mundos que se programa en el municipio berciano de Villar de los Barrios rinde homenaje a folclore y las músicas de raíz de Castilla y León. En este sentido\, el viernes 26 de septiembre a las 20:00\, el público tiene cita con Fetén Fetén. Los burgaleses Diego Galaz y Jorge Arribas no son solamente un dúo\, sino también una verbena portátil\, un torbellino de imaginación y virtuosismo. En sus manos\, un serrucho llora un vals\, una silla de camping se convierte en flauta y un violín trompeta te hace bailar sin remedio.  Son los luthiers de la España vaciada\, capaces de extraer melodías de los objetos más inesperados para recordarnos que la alegría y la belleza se esconden en los lugares más sencillos. Entradas disponibles en la web del festival\, www.villardelosmundos.com \n 
URL:https://www.ilcyl.com/evento/feten-feten-festival-villar-de-los-mundos-villar-de-los-barrios/
CATEGORIES:Música
ATTACH;FMTTYPE=image/jpeg:https://www.ilcyl.com/wp-content/uploads/2025/07/CARTEL-FETEN-VILLAR_DEFInstaInsti.jpg
END:VEVENT
BEGIN:VEVENT
DTSTART;TZID=Europe/Madrid:20250927T110000
DTEND;TZID=Europe/Madrid:20250927T140000
DTSTAMP:20260422T122745
CREATED:20250903T113319Z
LAST-MODIFIED:20250903T113827Z
UID:10644-1758970800-1758981600@www.ilcyl.com
SUMMARY:'Los Sábados en Palacio'. Visita guiada al Palacio de la Isla de Burgos
DESCRIPTION:El Instituto Castellano y Leonés de la Lengua organiza el sábado\, 27 de septiembre\, en horario de 11:00 a 14:00 horas\, la propuesta ‘Los Sábados en Palacio’\, una jornada de puertas abiertas a su sede\, el Palacio de la Isla de Burgos\, que incluye una visita guiada (12:00 horas) de carácter gratuito que acerca al visitante la historia de uno de los edificios más emblemáticos de la capital burgalesa. Esta propuesta\, organizada con la colaboración de la Asociación de Guías de Burgos\, quiere dar a conocer el trabajo de la institución en el ámbito de la investigación de orígenes del español y en la promoción de la literatura de la Comunidad.
URL:https://www.ilcyl.com/evento/los-sabados-en-palacio-visita-guiada-al-palacio-de-la-isla-de-burgos/
CATEGORIES:Visita guiada
ATTACH;FMTTYPE=image/jpeg:https://www.ilcyl.com/wp-content/uploads/2025/09/27-09-2025.-Sabados-en-Palacio.-A4.jpg
END:VEVENT
BEGIN:VEVENT
DTSTART;TZID=Europe/Madrid:20250928T200000
DTEND;TZID=Europe/Madrid:20250928T213000
DTSTAMP:20260422T122745
CREATED:20250728T122811Z
LAST-MODIFIED:20250916T152012Z
UID:10548-1759089600-1759095000@www.ilcyl.com
SUMMARY:'El Naán Trío'. Festival Villar de los Mundos. Villar de los Barrios
DESCRIPTION:La XIII edición del Festival Villar de los Mundos que se programa en el municipio berciano de Villar de los Barrios rinde homenaje en esta nueva convocatoria al folclore y las músicas de raíz de Castilla y León. En este sentido\, el domingo 28 de septiembre a las 20:00 hora tenemos cita con el Naán Trío\, desde Palencia; el sonido ancestral y futurista de los tres pilares de una gran banda de folk reconocida ya en todo el continente europeo. La poesía afilada de Héctor Castrillejo\, la maestría multi-instrumental y la voz profunda de Carlos Herrero y la percusión atávica y precisa de Adal Pumarabín exploran la raíz étnica de la tradición ibérica desde su núcleo\, despojándola de todo artificio para mostrar su esqueleto sonoro. Su propuesta es un viaje a lo esencial\, con instrumentos campesinos y versos que arañan el alma. Entradas disponibles en la web del festival\, www.villardelosmundos.com \n 
URL:https://www.ilcyl.com/evento/el-trio-naan-festival-villar-de-los-mundos-villar-de-los-barrios/
CATEGORIES:Música
ATTACH;FMTTYPE=image/jpeg:https://www.ilcyl.com/wp-content/uploads/2025/07/CARTELNAAN_DEFInstaInsti.jpg
END:VEVENT
END:VCALENDAR