BEGIN:VCALENDAR
VERSION:2.0
PRODID:-//ILCYL - ECPv5.14.1//NONSGML v1.0//EN
CALSCALE:GREGORIAN
METHOD:PUBLISH
X-WR-CALNAME:ILCYL
X-ORIGINAL-URL:https://www.ilcyl.com
X-WR-CALDESC:Events for ILCYL
REFRESH-INTERVAL;VALUE=DURATION:PT1H
X-Robots-Tag:noindex
X-PUBLISHED-TTL:PT1H
BEGIN:VTIMEZONE
TZID:Europe/Madrid
BEGIN:DAYLIGHT
TZOFFSETFROM:+0100
TZOFFSETTO:+0200
TZNAME:CEST
DTSTART:20250330T010000
END:DAYLIGHT
BEGIN:STANDARD
TZOFFSETFROM:+0200
TZOFFSETTO:+0100
TZNAME:CET
DTSTART:20251026T010000
END:STANDARD
BEGIN:DAYLIGHT
TZOFFSETFROM:+0100
TZOFFSETTO:+0200
TZNAME:CEST
DTSTART:20260329T010000
END:DAYLIGHT
BEGIN:STANDARD
TZOFFSETFROM:+0200
TZOFFSETTO:+0100
TZNAME:CET
DTSTART:20261025T010000
END:STANDARD
END:VTIMEZONE
BEGIN:VEVENT
DTSTART;VALUE=DATE:20250902
DTEND;VALUE=DATE:20250930
DTSTAMP:20260422T101904
CREATED:20250829T105651Z
LAST-MODIFIED:20250829T105651Z
UID:10620-1756771200-1759190399@www.ilcyl.com
SUMMARY:Exposición 'Bajo pluma de mujer'. La Alhóndiga. Zamora
DESCRIPTION:El Centro Cultural La Alhóndiga de Zamora acoge desde el 2 de septiembre hasta el 29 de septiembre la exposición itinerante ‘Bajo pluma de mujer’\, proyecto expositivo producido por el Instituto Castellano y Leonés de la Lengua con la colaboración de la Casa Museo Unamuno de la Universidad de Salamanca y el Ayuntamiento zamorano.\nEste proyecto expositivo se basa en la investigación emprendida por la Universidad de Salamanca en torno a una extensa selección de cartas enviadas a Miguel de Unamuno en el primer tercio del siglo XX\, que se encuentran depositadas en la Casa-Museo Unamuno. Maribel Rodríguez Fidalgo\, Adriana Paíno Ambrosio y Ana Chaguaceda Toledano (USAL) son las comisarias de este montaje\, que integra un material testimonial de gran valor y riqueza\, desconocido hasta la fecha
URL:https://www.ilcyl.com/evento/exposicion-bajo-pluma-de-mujer-la-alhondiga-zamora/
CATEGORIES:Exposición
ATTACH;FMTTYPE=image/jpeg:https://www.ilcyl.com/wp-content/uploads/2025/08/Cartel-Bajo-Pluma-de-Mujer.-Zamora-scaled.jpg
END:VEVENT
BEGIN:VEVENT
DTSTART;TZID=Europe/Madrid:20250929T080000
DTEND;TZID=Europe/Madrid:20260117T170000
DTSTAMP:20260422T101904
CREATED:20250929T122015Z
LAST-MODIFIED:20250929T122015Z
UID:10867-1759132800-1768669200@www.ilcyl.com
SUMMARY:Exposición 'In custodia verbi. Bendita la locura de la piedra'. Burgos
DESCRIPTION:El Instituto Castellano y Leonés de la Lengua programa en los jardines y en la planta baja del Palacio de la Isla de Burgos la exposición ‘In custodia verbi. Bendita la locura de la piedra’\, un conjunto escultórico creado por el escultor burgalés Alberto Bañuelos\, que toma como punto de partida cantos rodados\, alabastro y bolos graníticos. Esta muestra\, comisariada por el técnico y crítico de arte Alfonso de la Torre\, convierte el conjunto final en garante de la custodia como símbolo de la vigilancia del lenguaje que viene realizando esta institución. La muestra se puede ver hasta el próximo 17 de enero de 2026.
URL:https://www.ilcyl.com/evento/exposicion-in-custodia-verbi-bendita-la-locura-de-la-piedra-burgos/
CATEGORIES:Exposición
ATTACH;FMTTYPE=image/jpeg:https://www.ilcyl.com/wp-content/uploads/2025/09/1080X1350-scaled.jpg
END:VEVENT
BEGIN:VEVENT
DTSTART;TZID=Europe/Madrid:20250929T120000
DTEND;TZID=Europe/Madrid:20250929T140000
DTSTAMP:20260422T101904
CREATED:20250924T085123Z
LAST-MODIFIED:20250924T085123Z
UID:10839-1759147200-1759154400@www.ilcyl.com
SUMMARY:III Jornadas Tagore de la Casa de la India. Valladolid
DESCRIPTION:La Casa de la India de Valladolid organiza con el apoyo del Instituto Castellano y Leonés de la Lengua y el Ayuntamiento de Valladolid las ‘III Jornadas Tagore’ en la capital vallisoletana con la organización en la Biblioteca Tagore de la Facultad de Comercio de la Universidad de Valladolid\, de la conferencia ‘Rabindranath Tagore embajador cultural de la India’ que imparte el lunes\, 29 de septiembre\, a las 12:00 horas\, Jyoti Sharma\, profesora de la cátedra de Hindi (ICCR) de la Universidad de Valladolid. Las jornadas continúan con un recital musical que interpreta la cantante clásica india Vidya Shah en el mismo escenario. Entrada libre hasta completar el aforo.
URL:https://www.ilcyl.com/evento/iii-jornadas-tagore-de-la-casa-de-la-india-valladolid/
CATEGORIES:Conferencia,Música
ATTACH;FMTTYPE=image/png:https://www.ilcyl.com/wp-content/uploads/2025/09/III-Jornadas-Tagore.png
END:VEVENT
BEGIN:VEVENT
DTSTART;TZID=Europe/Madrid:20250929T183000
DTEND;TZID=Europe/Madrid:20250929T193000
DTSTAMP:20260422T101904
CREATED:20250915T151918Z
LAST-MODIFIED:20250915T151959Z
UID:10742-1759170600-1759174200@www.ilcyl.com
SUMMARY:'Contando la música'\, con José Luis López Antón. 'Italiana'. Burgos
DESCRIPTION:El Instituto Castellano y Leonés de la Lengua organiza el lunes\, 29 de septiembre\, a las 18:30 horas\, en el Palacio de la Isla de Burgos una nueva sesión de ‘Contando la música’\, la charla de apreciación musical que imparte José Luis López Antón\, director de la Orquesta Sinfónica de Ávila. En este encuentro con la música clásica\, analizará la Sinfonía n.º 4 en La mayor\, Op. 90\, Italiana\, de Félix Mendelssohn\, compuesta entre 1830 y 1833 e inspirada en el viaje que el compositor realizó por Italia.
URL:https://www.ilcyl.com/evento/contando-la-musica-con-jose-luis-lopez-anton-italiana-burgos/
CATEGORIES:Conferencia,Música
ATTACH;FMTTYPE=image/jpeg:https://www.ilcyl.com/wp-content/uploads/2025/09/2025-09-29.-Contando-la-musica-Palacio-de-la-Isla-de-Burgos.-Sesion-VIII.-A4-scaled.jpg
END:VEVENT
BEGIN:VEVENT
DTSTART;TZID=Europe/Madrid:20250930T180000
DTEND;TZID=Europe/Madrid:20250930T200000
DTSTAMP:20260422T101904
CREATED:20250915T074239Z
LAST-MODIFIED:20250915T151359Z
UID:10737-1759255200-1759262400@www.ilcyl.com
SUMMARY:Taller de autobiografía mínima’\, por Beltrán Gambier. Burgos
DESCRIPTION:El Instituto Castellano y Leonés de la Lengua organiza junto a Hay festival Segovia el martes\, 30 de septiembre\, a las 18:00 horas\, en el Palacio de la Isla de Burgos\, un ‘Taller de Autobiografía Mínima’\, en el que se pide a los participantes que se impliquen en un ejercicio de escritura en el que tendrán que contar su propia vida utilizando un máximo de 1.000 palabras. El taller está centrado en el concepto de ‘autobiografía mínima’\, género en el que la revista Intramuros\, creada y dirigida por el abogado y gestor cultural argentino Beltrán Gambier\, ha sido pionera en lengua española en esta especialidad. \n‘Taller de autobiografía mínima’\, por Beltrán Gambier. Palacio de la Isla. Burgos \n\nDía: Martes\, 30 de septiembre 2025\nHorario del taller: 18:00 a 20:00 horas\nInscripción: Abierta y gratuita. Plazas Limitadas: 15 personas\nTfno: 947 256090; correo electrónico: info@ilcyl.com: (asunto: taller de autobiografía)\nLugar: Palacio de la Isla. Paseo de la Isla nº 1. Burgos
URL:https://www.ilcyl.com/evento/taller-de-autobiografia-minima-por-beltran-gambier-burgos/
CATEGORIES:Talleres
ATTACH;FMTTYPE=image/jpeg:https://www.ilcyl.com/wp-content/uploads/2025/09/30-09-2025.-Taller-de-autobiografia-minima.-Burgos-scaled.jpg
END:VEVENT
BEGIN:VEVENT
DTSTART;TZID=Europe/Madrid:20250930T190000
DTEND;TZID=Europe/Madrid:20250930T200000
DTSTAMP:20260422T101904
CREATED:20250917T101412Z
LAST-MODIFIED:20250917T101412Z
UID:10773-1759258800-1759262400@www.ilcyl.com
SUMMARY:Presentación del libro 'Trumpsilvania'\, de Luis Artigue. Salamanca
DESCRIPTION:El Instituto Castellano y Leonés de la Lengua y el Ayuntamiento de Salamanca organizan el martes\, 30 de septiembre\, a las 19:00 horas\, en el Centro Cultural Torre de los Anaya de Salamanca la presentación del libro ‘Trumpsilvania’ (Eolas Ediciones)\, última novela del escritor leonés Luis Artigue. Se trata de un título de regusto pulp en el cual el autor se imagina una distopía no tan distópica: la decisión de Donald Trump de crear un gobierno paritario de humanos… contra vampiros. Artigue estará acompañado durante esta presentación por Héctor Escobar\, editor de Eolas Ediciones.
URL:https://www.ilcyl.com/evento/presentacion-del-libro-trumpsilvania-de-luis-artigue-salamanca/
CATEGORIES:Actividad literaria,Conferencia
ATTACH;FMTTYPE=image/jpeg:https://www.ilcyl.com/wp-content/uploads/2025/09/30-09-2025.-Torre-de-los-Anaya-Salamanca.-Presentacion-Trumpsilvania-Luis-Artigue.-Salamanca-scaled.jpg
END:VEVENT
BEGIN:VEVENT
DTSTART;TZID=Europe/Madrid:20250930T193000
DTEND;TZID=Europe/Madrid:20250930T203000
DTSTAMP:20260422T101904
CREATED:20250731T125038Z
LAST-MODIFIED:20250731T125038Z
UID:10586-1759260600-1759264200@www.ilcyl.com
SUMMARY:Recital '13 sonetos y una sirena' por Daniel Pérez. Soria
DESCRIPTION:El Instituto Castellano y Leonés de la Lengua y el Ayuntamiento de Soria organizan el martes\, 30 de septiembre\, a las 19:00 horas\, en la Biblioteca Pública de Soria el recital ’13 sonetos y una sirena’\, concierto para voz y guitarra dirigido por el zamorano Daniel Pérez.
URL:https://www.ilcyl.com/evento/recital-13-sonetos-y-una-sirena-por-daniel-perez-soria/
CATEGORIES:Música
ATTACH;FMTTYPE=image/jpeg:https://www.ilcyl.com/wp-content/uploads/2025/07/30-09-2025.-Biblioteca-Publica-de-Soria.-Daniel-Perez.-13-Poetas-y-una-Sirena.-A4-scaled.jpg
END:VEVENT
BEGIN:VEVENT
DTSTART;TZID=Europe/Madrid:20251001T193000
DTEND;TZID=Europe/Madrid:20251001T203000
DTSTAMP:20260422T101904
CREATED:20250916T145214Z
LAST-MODIFIED:20250916T145214Z
UID:10752-1759347000-1759350600@www.ilcyl.com
SUMMARY:Presentación de la revista cultural Atticus. Valladolid
DESCRIPTION:El Instituto Castellano y Leonés de la Lengua y el Ayuntamiento de Valladolid programan el miércoles\, 1 de octubre\, a las 19:30 horas\, en la Biblioteca Pública de Castilla y León de Valladolid la presentación de la revista cultural Atticus\, publicación creada en 2009 como plataforma digital (www.revistaatticus.es)\, y que a finales de 2010 se presentó como publicación impresa\, coexistiendo desde entonces en ambos formatos. La revista\, editada por el historiador del arte Luis José Cuadrado Gutiérrez\, tiene un interés informativo pegado a la actualidad cultural\, con contenidos complementados con colaboraciones de analistas y expertos en distintos ámbitos del conocimiento.
URL:https://www.ilcyl.com/evento/presentacion-de-la-revista-cultural-atticus-valladolid/
CATEGORIES:Conferencia
ATTACH;FMTTYPE=image/jpeg:https://www.ilcyl.com/wp-content/uploads/2025/09/01-10-2025.-Biblioteca-de-Castilla-y-Leon.-Valladolid.-Presentacion-Revista-Atticus-A4.jpg
END:VEVENT
BEGIN:VEVENT
DTSTART;TZID=Europe/Madrid:20251002T193000
DTEND;TZID=Europe/Madrid:20251002T203000
DTSTAMP:20260422T101904
CREATED:20250917T072556Z
LAST-MODIFIED:20250917T072556Z
UID:10766-1759433400-1759437000@www.ilcyl.com
SUMMARY:Recital '13 sonetos y una sirena'\, por Daniel Pérez. Burgos
DESCRIPTION:El Instituto Castellano y Leonés de la Lengua organiza en el Palacio de la Isla de Burgos el jueves\, 2 de octubre\, a las 19:30 horas\, el recital poético ’13 sonetos y una sirena’\, un concierto para voz y guitarra con música y letra del compositor y dramaturgo zamorano Daniel Pérez. Este recital presenta la originalidad de recurrir a la fórmula del uso del soneto en las estrofas\, composición poética poco frecuente en la letra de las canciones\, pero de larga tradición en la literatura en lengua español.
URL:https://www.ilcyl.com/evento/recital-13-sonetos-y-una-sirena-por-daniel-perez-burgos/
CATEGORIES:Actividad literaria,Música
ATTACH;FMTTYPE=image/jpeg:https://www.ilcyl.com/wp-content/uploads/2025/09/01-10-2025.-Palacio-de-la-Isla.-Burgos.-Daniel-Perez.-13-Poetas-y-una-Sirena-scaled.jpg
END:VEVENT
BEGIN:VEVENT
DTSTART;TZID=Europe/Madrid:20251003T201500
DTEND;TZID=Europe/Madrid:20251003T213000
DTSTAMP:20260422T101904
CREATED:20250930T104015Z
LAST-MODIFIED:20250930T104015Z
UID:10898-1759522500-1759527000@www.ilcyl.com
SUMMARY:Ciclo 'Literatura en música'. Concierto 'Siénteme libre. Notas de poesía española'. Burgos
DESCRIPTION:El Instituto Castellano y Leonés de la Lengua y la Sociedad Filarmónica de Burgos programan de forma conjunta el ciclo ‘Literatura en Música’\, integrado en la nueva temporada musical 2025/26 que promueve la Sociedad Filarmónica. El concierto Siénteme libre. Notas de poesía española\, programado el viernes\, 3 de octubre\,a  las 20:00 15 horas\, en el Auditorio ElCírculo (C/ Ana Lopidana nº6) de Burgos\, inaugura la nueva temporada musical. La soprano Alicia Amo\, y la pianista Natalia González\, ambas burgalesas\, son las protagonistas de un concierto lírico que incluye obras de García Morante\, Guridi\, Nim-Culmell\, Obrador y Torres. \n 
URL:https://www.ilcyl.com/evento/ciclo-literatura-en-musica-concierto-sienteme-libre-notas-de-poesia-espanola-burgos/
CATEGORIES:Música
ATTACH;FMTTYPE=image/png:https://www.ilcyl.com/wp-content/uploads/2025/09/3.10.25-Concierto-Sienteme-libre.png
END:VEVENT
BEGIN:VEVENT
DTSTART;TZID=Europe/Madrid:20251004T110000
DTEND;TZID=Europe/Madrid:20251004T140000
DTSTAMP:20260422T101904
CREATED:20251001T102358Z
LAST-MODIFIED:20251006T081917Z
UID:10930-1759575600-1759586400@www.ilcyl.com
SUMMARY:‘Los Sábados en Palacio’. Visita guiada al Palacio de la Isla. Burgos
DESCRIPTION:El Instituto Castellano y Leonés de la Lengua organiza el sábado\, 4 de octubre\, en horario de 11:00 a 14:00 horas\, la propuesta ‘Los Sábados en Palacio’\, una nueva jornada de puertas abiertas a su sede\, el Palacio de la Isla\, que incluye una visita guiada (12:00 horas) de carácter gratuito que acerca al visitante la historia de uno de los edificios más emblemáticos de la capital burgalesa. Esta propuesta quiere también dar a conocer el trabajo de la institución en el ámbito de la investigación de orígenes del español y en la promoción de la literatura de la Comunidad.
URL:https://www.ilcyl.com/evento/los-sabados-en-palacio-visita-guiada-al-palacio-de-la-isla-burgos-3/
CATEGORIES:Visita guiada
ATTACH;FMTTYPE=image/jpeg:https://www.ilcyl.com/wp-content/uploads/2025/10/04-10-2025.-Sabados-en-Palacio.-A4.jpg
END:VEVENT
END:VCALENDAR