BEGIN:VCALENDAR
VERSION:2.0
PRODID:-//ILCYL - ECPv5.14.1//NONSGML v1.0//EN
CALSCALE:GREGORIAN
METHOD:PUBLISH
X-WR-CALNAME:ILCYL
X-ORIGINAL-URL:https://www.ilcyl.com
X-WR-CALDESC:Events for ILCYL
REFRESH-INTERVAL;VALUE=DURATION:PT1H
X-Robots-Tag:noindex
X-PUBLISHED-TTL:PT1H
BEGIN:VTIMEZONE
TZID:Europe/Madrid
BEGIN:DAYLIGHT
TZOFFSETFROM:+0100
TZOFFSETTO:+0200
TZNAME:CEST
DTSTART:20250330T010000
END:DAYLIGHT
BEGIN:STANDARD
TZOFFSETFROM:+0200
TZOFFSETTO:+0100
TZNAME:CET
DTSTART:20251026T010000
END:STANDARD
BEGIN:DAYLIGHT
TZOFFSETFROM:+0100
TZOFFSETTO:+0200
TZNAME:CEST
DTSTART:20260329T010000
END:DAYLIGHT
BEGIN:STANDARD
TZOFFSETFROM:+0200
TZOFFSETTO:+0100
TZNAME:CET
DTSTART:20261025T010000
END:STANDARD
END:VTIMEZONE
BEGIN:VEVENT
DTSTART;TZID=Europe/Madrid:20250929T080000
DTEND;TZID=Europe/Madrid:20260117T170000
DTSTAMP:20260422T023841
CREATED:20250929T122015Z
LAST-MODIFIED:20250929T122015Z
UID:10867-1759132800-1768669200@www.ilcyl.com
SUMMARY:Exposición 'In custodia verbi. Bendita la locura de la piedra'. Burgos
DESCRIPTION:El Instituto Castellano y Leonés de la Lengua programa en los jardines y en la planta baja del Palacio de la Isla de Burgos la exposición ‘In custodia verbi. Bendita la locura de la piedra’\, un conjunto escultórico creado por el escultor burgalés Alberto Bañuelos\, que toma como punto de partida cantos rodados\, alabastro y bolos graníticos. Esta muestra\, comisariada por el técnico y crítico de arte Alfonso de la Torre\, convierte el conjunto final en garante de la custodia como símbolo de la vigilancia del lenguaje que viene realizando esta institución. La muestra se puede ver hasta el próximo 17 de enero de 2026.
URL:https://www.ilcyl.com/evento/exposicion-in-custodia-verbi-bendita-la-locura-de-la-piedra-burgos/
CATEGORIES:Exposición
ATTACH;FMTTYPE=image/jpeg:https://www.ilcyl.com/wp-content/uploads/2025/09/1080X1350-scaled.jpg
END:VEVENT
BEGIN:VEVENT
DTSTART;VALUE=DATE:20251022
DTEND;VALUE=DATE:20260118
DTSTAMP:20260422T023841
CREATED:20251023T091719Z
LAST-MODIFIED:20251023T091719Z
UID:11096-1761091200-1768694399@www.ilcyl.com
SUMMARY:Exposición 'Palabras Panhispánicas'. Palacio de la Isla. Burgos
DESCRIPTION:El Instituto Castellano y Leonés de la Lengua y la Asociación de Academias de la Lengua Española (ASALE) promueven en el Palacio de la Isla de Burgos desde el 22 de octubre hasta el 17 de enero de 2026 la exposición ‘Palabras Panhispánicas’\, un recorrido por la riqueza del español a través de las voces y expresiones que dan forma a la vida cotidiana de millones de personas en los distintos países hispanohablantes\, así como en Filipinas y Guinea Ecuatorial.
URL:https://www.ilcyl.com/evento/exposicion-palabras-panhispanicas-palacio-de-la-isla-burgos/
CATEGORIES:Exposición
ATTACH;FMTTYPE=image/jpeg:https://www.ilcyl.com/wp-content/uploads/2025/10/Cartel-Palabras-Panhispanicas.-Burgos.jpg
END:VEVENT
BEGIN:VEVENT
DTSTART;TZID=Europe/Madrid:20251029T193000
DTEND;TZID=Europe/Madrid:20251029T203000
DTSTAMP:20260422T023841
CREATED:20250910T103317Z
LAST-MODIFIED:20250910T103317Z
UID:10705-1761766200-1761769800@www.ilcyl.com
SUMMARY:'Esenciales'\, con José Ignacio García. Valladolid
DESCRIPTION:El Instituto Castellano y Leonés de la Lengua y el Ayuntamiento de Valladolid organizan el miércoles\, 29 de octubre\, a las 19:30 horas\, en la Biblioteca Pública de Castilla y León en Valladolid  la propuesta literaria ‘Esenciales’\, ciclo dirigido y presentado por el escritor y crítico literario José Ignacio García\, con el que se pretende ofrecer a los lectores de la Comunidad un perfil de nueve escritores de Castilla y León -uno por cada provincia- cuyo trabajo narrativo y poético les hace ‘esenciales’. García iniciado con esta nueva iniciativa un viaje que le llevará por todas las provincias de la Comunidad compartiendo con el público sus conocimientos sobre la literatura autóctona y sus protagonistas imprescindibles de la actualidad.
URL:https://www.ilcyl.com/evento/esenciales-con-jose-ignacio-garcia-valladolid/
CATEGORIES:Actividad literaria,Conferencia
ATTACH;FMTTYPE=image/jpeg:https://www.ilcyl.com/wp-content/uploads/2025/09/29-10-2025.-Biblioteca-de-Castilla-y-Leon.-Jose-Ignacio-Garcia.-Esenciales-scaled.jpg
END:VEVENT
BEGIN:VEVENT
DTSTART;TZID=Europe/Madrid:20251030T190000
DTEND;TZID=Europe/Madrid:20251030T200000
DTSTAMP:20260422T023841
CREATED:20250910T104651Z
LAST-MODIFIED:20250910T104651Z
UID:10708-1761850800-1761854400@www.ilcyl.com
SUMMARY:'Esenciales'\, con José Ignacio García. Zamora
DESCRIPTION:El Instituto Castellano y Leonés de la Lengua y el Ayuntamiento de Zamora promueven el jueves\, 30 de octubre\, a las 19:00 horas\, en la Biblioteca Pública de Zamora la propuesta literaria ‘Esenciales’\, ciclo dirigido y presentado por el escritor y crítico literario José Ignacio García\, con el que se pretende ofrecer a los lectores un perfil de nueve escritores de Castilla y León -uno por cada provincia- cuyo trabajo narrativo y poético les hace ‘esenciales’. García ha iniciado con esta nueva iniciativa un viaje que le llevará por todas las provincias de la Comunidad compartiendo con el público sus conocimientos sobre la literatura autóctona y sus protagonistas imprescindibles de la actualidad.
URL:https://www.ilcyl.com/evento/esenciales-con-jose-ignacio-garcia-zamora/
CATEGORIES:Actividad literaria,Conferencia
ATTACH;FMTTYPE=image/jpeg:https://www.ilcyl.com/wp-content/uploads/2025/09/30-10-2025.-Biblioteca-Publica-de-Zamora.-Jose-Ignacio-Garcia.-Esenciales-A4-scaled.jpg
END:VEVENT
BEGIN:VEVENT
DTSTART;TZID=Europe/Madrid:20251030T190000
DTEND;TZID=Europe/Madrid:20251030T200000
DTSTAMP:20260422T023841
CREATED:20250910T115706Z
LAST-MODIFIED:20250910T115706Z
UID:10717-1761850800-1761854400@www.ilcyl.com
SUMMARY:'La lira de las musas'\, con Fermín Herrero. Ávila
DESCRIPTION:El Instituto Castellano y Leonés de la Lengua organiza en la Biblioteca Pública de Ávila el jueves\, 30 de octubre\, a las 19:00 horas\, una nueva sesión del nuevo encuentro literario ‘La lira de las musas. Poesía actual de Castilla y León’\, ciclo creado por esta institución\, coordinado y presentado por el poeta soriano Fermín Herrero. Con esta nueva propuesta divulgativa\, Herrero pretende presentar las líneas generales y los nombres de un panorama extenso y fructífero de autores de la Comunidad.
URL:https://www.ilcyl.com/evento/la-lira-de-las-musas-con-fermin-herrero-avila/
CATEGORIES:Actividad literaria,Conferencia
ATTACH;FMTTYPE=image/jpeg:https://www.ilcyl.com/wp-content/uploads/2025/09/30-10-2025.-Biblioteca-Publica-de-Avila.-Fermin-Herrero.-Esenciales-A4-scaled.jpg
END:VEVENT
BEGIN:VEVENT
DTSTART;TZID=Europe/Madrid:20251030T190000
DTEND;TZID=Europe/Madrid:20251030T200000
DTSTAMP:20260422T023841
CREATED:20250922T154452Z
LAST-MODIFIED:20250922T155401Z
UID:10820-1761850800-1761854400@www.ilcyl.com
SUMMARY:Presentación de la revista cultural ‘Atticus’. Salamanca
DESCRIPTION:El Instituto Castellano y Leonés de la Lengua y el Ayuntamiento de Salamanca programan el jueves\, 30 de octubre\, a las 19:00 horas\, en el Centro Cultural Torre de los Anaya de la capital salmantina la presentación de la revista cultural Atticus\, publicación nacida en 2009 como plataforma digital (www.revistaatticus.es)\, y que en 2010 se presentó también como publicación impresa\, coexistiendo desde entonces en ambos formatos. La revista\, editada por el historiador del arte Luis José Cuadrado Gutiérrez\, tiene un interés informativo pegado a la actualidad cultural\, con contenidos complementados con colaboraciones de analistas y expertos en distintos ámbitos del conocimiento.
URL:https://www.ilcyl.com/evento/presentacion-de-la-revista-cultural-atticus-salamanca/
CATEGORIES:Actividad literaria,Conferencia
ATTACH;FMTTYPE=image/jpeg:https://www.ilcyl.com/wp-content/uploads/2025/09/30-10-2025.-Torreo-Anaya.-Presentacion-Revista-Atticus-A4.jpg
END:VEVENT
BEGIN:VEVENT
DTSTART;TZID=Europe/Madrid:20251101T110000
DTEND;TZID=Europe/Madrid:20251101T140000
DTSTAMP:20260422T023841
CREATED:20251023T150422Z
LAST-MODIFIED:20251023T150422Z
UID:11110-1761994800-1762005600@www.ilcyl.com
SUMMARY:‘Los Sábados en Palacio’. Visita guiada al Palacio de la Isla. Burgos
DESCRIPTION:El Instituto Castellano y Leonés de la Lengua organiza el sábado\, 1 de noviembre\, festividad de ‘Todos los Santos’ en horario de 11:00 a 14:00 horas\, la propuesta ‘Los Sábados en Palacio’\, una nueva jornada de puertas abiertas a su sede\, el Palacio de la Isla\, que incluye una visita guiada (12:00 horas) de carácter gratuito que acerca al visitante la historia de uno de los edificios más emblemáticos de la capital burgalesa. Esta propuesta quiere también dar a conocer el trabajo de la institución en el ámbito de la investigación de orígenes del español y en la promoción de la literatura de la Comunidad.
URL:https://www.ilcyl.com/evento/los-sabados-en-palacio-visita-guiada-al-palacio-de-la-isla-burgos-9/
CATEGORIES:Visita guiada
ATTACH;FMTTYPE=image/jpeg:https://www.ilcyl.com/wp-content/uploads/2025/10/01-11-2025.-Sabados-en-Palacio.-A4.jpg
END:VEVENT
BEGIN:VEVENT
DTSTART;TZID=Europe/Madrid:20251101T190000
DTEND;TZID=Europe/Madrid:20251101T200000
DTSTAMP:20260422T023841
CREATED:20251030T090500Z
LAST-MODIFIED:20251030T091126Z
UID:11187-1762023600-1762027200@www.ilcyl.com
SUMMARY:'Magosto'\, con Luis Antonio Pedraza. Festival Villar de los Mundos. Villar de los Barrios
DESCRIPTION:La XIII edición del Festival Villar de los Mundos que se programa en el municipio berciano de Villar de los Barrios (Ponferrada) rinde homenaje a folclore y las músicas de raíz de Castilla y León. En este sentido\, el sábado 1 de noviembre\, a las 19:00 horas\, el público tiene una cita con Luis Antonio Pedraza\, y su propuesta ‘Magosto’ en el Espacio Cultural Bierzo Vivo. El multiinstrumentista zamorano Luis Antonio Pedraza\, una de las grandes figuras del folk en Castilla y León\, ofrecerá un concierto cargado de tradición y emoción. Su actuación\, originalmente prevista para agosto\, fue aplazada por los incendios del verano\, y se recupera ahora coincidiendo con el ‘Magosto’\, celebración ligada al otoño berciano. Un encuentro que es un homenaje a José Manuel Rodríguez Valtuille\, productor musical berciano\, colaborador y socio del festival\, fallecido el pasado 2 de septiembre. Entradas disponibles en la web del festival\, www.villardelosmundos.com
URL:https://www.ilcyl.com/evento/magosto-con-luis-antonio-pedraza-festival-villar-de-los-mundos-villar-de-los-barrios/
CATEGORIES:Encuentro,Música
ATTACH;FMTTYPE=image/jpeg:https://www.ilcyl.com/wp-content/uploads/2025/10/magostoCartel.jpg
END:VEVENT
END:VCALENDAR