BEGIN:VCALENDAR
VERSION:2.0
PRODID:-//ILCYL - ECPv5.14.1//NONSGML v1.0//EN
CALSCALE:GREGORIAN
METHOD:PUBLISH
X-WR-CALNAME:ILCYL
X-ORIGINAL-URL:https://www.ilcyl.com
X-WR-CALDESC:Events for ILCYL
REFRESH-INTERVAL;VALUE=DURATION:PT1H
X-Robots-Tag:noindex
X-PUBLISHED-TTL:PT1H
BEGIN:VTIMEZONE
TZID:Europe/Madrid
BEGIN:DAYLIGHT
TZOFFSETFROM:+0100
TZOFFSETTO:+0200
TZNAME:CEST
DTSTART:20250330T010000
END:DAYLIGHT
BEGIN:STANDARD
TZOFFSETFROM:+0200
TZOFFSETTO:+0100
TZNAME:CET
DTSTART:20251026T010000
END:STANDARD
BEGIN:DAYLIGHT
TZOFFSETFROM:+0100
TZOFFSETTO:+0200
TZNAME:CEST
DTSTART:20260329T010000
END:DAYLIGHT
BEGIN:STANDARD
TZOFFSETFROM:+0200
TZOFFSETTO:+0100
TZNAME:CET
DTSTART:20261025T010000
END:STANDARD
END:VTIMEZONE
BEGIN:VEVENT
DTSTART;TZID=Europe/Madrid:20250929T080000
DTEND;TZID=Europe/Madrid:20260117T170000
DTSTAMP:20260421T214136
CREATED:20250929T122015Z
LAST-MODIFIED:20250929T122015Z
UID:10867-1759132800-1768669200@www.ilcyl.com
SUMMARY:Exposición 'In custodia verbi. Bendita la locura de la piedra'. Burgos
DESCRIPTION:El Instituto Castellano y Leonés de la Lengua programa en los jardines y en la planta baja del Palacio de la Isla de Burgos la exposición ‘In custodia verbi. Bendita la locura de la piedra’\, un conjunto escultórico creado por el escultor burgalés Alberto Bañuelos\, que toma como punto de partida cantos rodados\, alabastro y bolos graníticos. Esta muestra\, comisariada por el técnico y crítico de arte Alfonso de la Torre\, convierte el conjunto final en garante de la custodia como símbolo de la vigilancia del lenguaje que viene realizando esta institución. La muestra se puede ver hasta el próximo 17 de enero de 2026.
URL:https://www.ilcyl.com/evento/exposicion-in-custodia-verbi-bendita-la-locura-de-la-piedra-burgos/
CATEGORIES:Exposición
ATTACH;FMTTYPE=image/jpeg:https://www.ilcyl.com/wp-content/uploads/2025/09/1080X1350-scaled.jpg
END:VEVENT
BEGIN:VEVENT
DTSTART;VALUE=DATE:20251022
DTEND;VALUE=DATE:20260118
DTSTAMP:20260421T214136
CREATED:20251023T091719Z
LAST-MODIFIED:20251023T091719Z
UID:11096-1761091200-1768694399@www.ilcyl.com
SUMMARY:Exposición 'Palabras Panhispánicas'. Palacio de la Isla. Burgos
DESCRIPTION:El Instituto Castellano y Leonés de la Lengua y la Asociación de Academias de la Lengua Española (ASALE) promueven en el Palacio de la Isla de Burgos desde el 22 de octubre hasta el 17 de enero de 2026 la exposición ‘Palabras Panhispánicas’\, un recorrido por la riqueza del español a través de las voces y expresiones que dan forma a la vida cotidiana de millones de personas en los distintos países hispanohablantes\, así como en Filipinas y Guinea Ecuatorial.
URL:https://www.ilcyl.com/evento/exposicion-palabras-panhispanicas-palacio-de-la-isla-burgos/
CATEGORIES:Exposición
ATTACH;FMTTYPE=image/jpeg:https://www.ilcyl.com/wp-content/uploads/2025/10/Cartel-Palabras-Panhispanicas.-Burgos.jpg
END:VEVENT
BEGIN:VEVENT
DTSTART;VALUE=DATE:20251106
DTEND;VALUE=DATE:20251127
DTSTAMP:20260421T214136
CREATED:20251103T111555Z
LAST-MODIFIED:20251103T111555Z
UID:11226-1762387200-1764201599@www.ilcyl.com
SUMMARY:Exposición 'Ciertos deslumbramientos' Sancti Spiritus (Salamanca)
DESCRIPTION:La Diputación de Salamanca y el Instituto Castellano y Leonés de la Lengua programan en la Iglesia vieja de Sancti-Spiritus\, entre los días 6 y 26 de noviembre\, la exposición de fotografía ‘Ciertos deslumbramientos’\, proyecto expositivo que integra 24 imágenes de distintos tamaños del fotógrafo leonés José Ramón Vega\, que se presentan acompañadas por textos poéticos de Tomás Sánchez Santiago\, escritor zamorano afincado en León. Esta exposición se enmarca en el Circuito de Exposiciones Itinerantes ‘por la difusión del arte y la cultura en el entorno rural’ que la Diputación de Salamanca\, la Junta de Castilla y León y el Instituto Castellano y Leonés de la Lengua desarrollan durante este año en distintos municipios salmantinos. \nHorario de apertura: 12:00 a 14:00 y 17:00 a 19:00 horas
URL:https://www.ilcyl.com/evento/exposicion-ciertos-deslumbramientos-sancti-spiritus-salamanca/
CATEGORIES:Exposición
ATTACH;FMTTYPE=image/jpeg:https://www.ilcyl.com/wp-content/uploads/2025/11/Cartel-Ciertos-deslumbramientos.-Sancti-Spiritus-Salamanca.jpg
END:VEVENT
BEGIN:VEVENT
DTSTART;TZID=Europe/Madrid:20251117T193000
DTEND;TZID=Europe/Madrid:20251117T203000
DTSTAMP:20260421T214136
CREATED:20250917T081455Z
LAST-MODIFIED:20250917T081455Z
UID:10782-1763407800-1763411400@www.ilcyl.com
SUMMARY:'Contando la música'\, con José Luis López Antón 'El sombrero de tres picos'. Valladolid
DESCRIPTION:El Ayuntamiento de Valladolid y el Instituto Castellano y Leonés de la Lengua organizan el lunes\, 17 de noviembre\, a las 19:30 horas\, en la Biblioteca Pública de Castilla y León\, una nueva sesión del ciclo ‘Contando la música’\, la charla de apreciación musical impartida por José Luis López Antón\, director de la Orquesta Sinfónica de Ávila. En este nuevo encuentro con el público vallisoletano\, López Antón analiza la partitura del popular ballet ‘El Sombrero de Tres Picos’\, del compositor Manuel de Falla.
URL:https://www.ilcyl.com/evento/contando-la-musica-con-jose-luis-lopez-anton-el-sombrero-de-tres-picos-valladolid/
CATEGORIES:Encuentro,Música
ATTACH;FMTTYPE=image/jpeg:https://www.ilcyl.com/wp-content/uploads/2025/09/2025-11-17.-Contando-la-musica-Biblioteca-Publica-de-Valladolid.-Sesion-X.-A4-scaled.jpg
END:VEVENT
BEGIN:VEVENT
DTSTART;TZID=Europe/Madrid:20251117T193000
DTEND;TZID=Europe/Madrid:20251117T203000
DTSTAMP:20260421T214136
CREATED:20250917T082306Z
LAST-MODIFIED:20251111T132059Z
UID:10785-1763407800-1763411400@www.ilcyl.com
SUMMARY:'La lira de las musas. Poesía actual de Castilla y León'\, por Fermín Herrero. Soria
DESCRIPTION:El Instituto Castellano y Leonés y el ayuntamiento de Soria organizan en la Biblioteca Pública de Soria el lunes\, 17 de noviembre\, a las 19:30 horas\, una nueva sesión del nuevo encuentro literario ‘La lira de las musas. Poesía actual de Castilla y León’\, ciclo de nueva creación desarrollado por esta institución en la Comunidad\, coordinado y presentado por el poeta soriano Fermín Herrero. Con esta nueva propuesta divulgativa\, Herrero pretende presentar las líneas generales y los nombres de un panorama poético extenso y fructífero de autores que coexisten en la Comunidad.
URL:https://www.ilcyl.com/evento/la-lira-de-las-musas-poesia-actual-de-castilla-y-leon-por-fermin-herrero/
CATEGORIES:Actividad literaria,Conferencia
ATTACH;FMTTYPE=image/jpeg:https://www.ilcyl.com/wp-content/uploads/2025/09/17-11-2025.-Biblioteca-Publica-de-Soria.-Fermin-Herrero.-Esenciales-A4-scaled.jpg
END:VEVENT
BEGIN:VEVENT
DTSTART;TZID=Europe/Madrid:20251118T200000
DTEND;TZID=Europe/Madrid:20251118T210000
DTSTAMP:20260421T214136
CREATED:20251014T112607Z
LAST-MODIFIED:20251014T112607Z
UID:11027-1763496000-1763499600@www.ilcyl.com
SUMMARY:'Como pretender al mismo tiempo entender y soñar'\, por Rakel Camacho. Salamanca
DESCRIPTION:El Instituto Castellano y Leonés de la Lengua y el Ayuntamiento de Salamanca organizan el martes\, 18 de noviembre\, a las 20:00 horas\, en la Sala de la Palabra del Teatro Liceo de Salamanca la conferencia titulada  ‘Como pretender al mismo tiempo entender y soñar (un encuentro para hablar de imaginación y superviencia)\, impartida por la dramaturga y directora teatral Rakel Camacho. La iniciativa se integra en la conmemoración institucional del centenario de la escritora salmantina carmen Martín Gaite. \n 
URL:https://www.ilcyl.com/evento/como-pretender-al-mismo-tiempo-entender-y-sonar-por-rakel-camacho-salamanca/
CATEGORIES:Conferencia
ATTACH;FMTTYPE=image/jpeg:https://www.ilcyl.com/wp-content/uploads/2025/10/18-11-2025.-Salamanca.-Rakel-Camacho-Pretender-al-mismo-tiempo-entender-y-sonar-scaled.jpg
END:VEVENT
BEGIN:VEVENT
DTSTART;TZID=Europe/Madrid:20251119T193000
DTEND;TZID=Europe/Madrid:20251119T203000
DTSTAMP:20260421T214136
CREATED:20250917T083507Z
LAST-MODIFIED:20250917T083507Z
UID:10788-1763580600-1763584200@www.ilcyl.com
SUMMARY:Recital '13 sonetos y una sirena'\, por Daniel Pérez. Valladolid
DESCRIPTION:El Instituto Castellano y Leonés de la Lengua y el Ayuntamiento de Valladolid organizan en la Biblioteca Pública de Castilla y León el miércoles 19 de noviembre\, a las 19:30 horas\, el recital poético ’13 sonetos y una sirena’\, un concierto para voz y guitarra con música y letra del compositor y dramaturgo zamorano Daniel Pérez. Este recital presenta la originalidad de recurrir a la fórmula del uso del soneto en las estrofas\, composición poética poco frecuente en la letra de las canciones\, pero de larga tradición en la literatura en español. \n 
URL:https://www.ilcyl.com/evento/recital-13-sonetos-y-una-sirena-por-daniel-perez-valladolid/
CATEGORIES:Actividad literaria,Música
ATTACH;FMTTYPE=image/jpeg:https://www.ilcyl.com/wp-content/uploads/2025/09/19-11-2025.-Biblioteca-de-Castilla-y-Leon.-Valladolid.-Daniel-Perez.-13-Poetas-y-una-Sirena.-A4-scaled.jpg
END:VEVENT
BEGIN:VEVENT
DTSTART;TZID=Europe/Madrid:20251119T193000
DTEND;TZID=Europe/Madrid:20251119T203000
DTSTAMP:20260421T214136
CREATED:20250917T084734Z
LAST-MODIFIED:20250917T084735Z
UID:10791-1763580600-1763584200@www.ilcyl.com
SUMMARY:'La lira de las musas. Poesía actual de Castilla y León'\, por Fermín Herrero. Salamanca
DESCRIPTION:El Instituto Castellano y Leonés de la Lengua y el Ayuntamiento de Salamanca organizan en la Biblioteca Pública-Casa de las Conchas el miércoles\, 19 de octubre\, a las 19:30 horas\, una sesión del encuentro literario ‘La lira de las musas. Poesía actual de Castilla y León’\, ciclo de nueva creación desplegado por esta institución en equipamientos culturales de la Comunidad\, coordinado y presentado por el poeta soriano Fermín Herrero. Con esta nueva propuesta divulgativa\, Herrero pretende presentar las líneas generales y los nombres de un panorama poético extenso y fructífero de autores que coexisten en la Castilla y León.
URL:https://www.ilcyl.com/evento/la-lira-de-las-musas-poesia-actual-de-castilla-y-leon-por-fermin-herrero-salamanca/
CATEGORIES:Actividad literaria,Conferencia
ATTACH;FMTTYPE=image/jpeg:https://www.ilcyl.com/wp-content/uploads/2025/09/19-11-2025.-Biblioteca-Publica-de-Salamanca.-Fermin-Herrero.-Esenciales-A4-scaled.jpg
END:VEVENT
BEGIN:VEVENT
DTSTART;TZID=Europe/Madrid:20251119T193000
DTEND;TZID=Europe/Madrid:20251119T203000
DTSTAMP:20260421T214136
CREATED:20251117T131059Z
LAST-MODIFIED:20251117T131059Z
UID:11347-1763580600-1763584200@www.ilcyl.com
SUMMARY:Encuentro 'Emeritus'\, con la historiadora María Isabel del Val. Valladolid
DESCRIPTION:La Fundación Santa María la Real y el Instituto Castellano y Leonés de la Lengua promueven una nueva sesión del encuentro ‘Eméritus’ con la historiadora vallisoletana María Isabel del Val el miércoles\, 19 de noviembre\, a las 19:30 horas en el Salón Felipe IV del Palacio Real de Valladolid. La invitada es catedrática de Historia Medieval\, está especializada en el siglo XV castellano y es una de las fundadoras del Instituto Universitario de Historia Simancas. El filólogo Fernando Conde conduce la entrevista. \nEntrada libre hasta completar aforo.
URL:https://www.ilcyl.com/evento/encuentro-emeritus-con-la-historiadora-maria-isabel-del-val-valladolid/
CATEGORIES:Encuentro
ATTACH;FMTTYPE=image/jpeg:https://www.ilcyl.com/wp-content/uploads/2025/11/19.11.25-Emeritus-Mara-Isabel-del-Val.-Valladolid-IMG-20251112-WA0004.jpg
END:VEVENT
BEGIN:VEVENT
DTSTART;TZID=Europe/Madrid:20251120T180000
DTEND;TZID=Europe/Madrid:20251121T210000
DTSTAMP:20260421T214136
CREATED:20251117T162227Z
LAST-MODIFIED:20251117T162227Z
UID:11355-1763661600-1763758800@www.ilcyl.com
SUMMARY:'I Jornada de Poesía Joven Jóvenes y poetas\, la nueva Edad de Plata'. Valladolid
DESCRIPTION:El Ayuntamiento de Valladolid y el Instituto Castellano y Leonés de la Lengua organizan en la Casa Revilla de Valladolid los días 20 y 21 de noviembre las primeras ‘Jornadas de Poesía Joven’ con el título ‘Jóvenes y poetas. La nueva Edad de Plata’\, coordinadas por el profesor de la Universidad de Burgos Pedro Ojeda y el poeta leonés Juan Álvarez Iglesias. El programa incluye la participación de seis jóvenes autores españoles contemporáneos. \nEntrada libre hasta completar aforo.
URL:https://www.ilcyl.com/evento/i-jornada-de-poesia-joven-jovenes-y-poetas-la-nueva-edad-de-plata-valladolid/
CATEGORIES:Actividad literaria,Congreso
ATTACH;FMTTYPE=image/jpeg:https://www.ilcyl.com/wp-content/uploads/2025/11/Cartel-1.jpg
END:VEVENT
BEGIN:VEVENT
DTSTART;TZID=Europe/Madrid:20251120T190000
DTEND;TZID=Europe/Madrid:20251120T200000
DTSTAMP:20260421T214136
CREATED:20250917T085659Z
LAST-MODIFIED:20250917T090355Z
UID:10794-1763665200-1763668800@www.ilcyl.com
SUMMARY:'Esenciales'\, con José Ignacio García. Segovia
DESCRIPTION:El Ayuntamiento de Segovia y el Instituto Castellano y Leonés de la Lengua organizan el jueves\, 20 de noviembre\, a las 19:00 horas\, en la Biblioteca Pública de Segovia la propuesta ‘Esenciales’\, ciclo literario dirigido y presentado por el escritor y crítico literario José Ignacio García. Con esta iniciativa\, se busca ofrecer a los lectores de la Comunidad el perfil de nueve escritores de Castilla y León -uno por cada provincia- cuyo trabajo narrativo y poético les convierte en ‘esenciales’.
URL:https://www.ilcyl.com/evento/esenciales-con-jose-ignacio-garcia-segovia/
CATEGORIES:Actividad literaria,Conferencia
ATTACH;FMTTYPE=image/jpeg:https://www.ilcyl.com/wp-content/uploads/2025/09/20-11-2025.-Biblioteca-Publica-de-Segovia.-Jose-Ignacio-Garcia.-Esenciales-A4-scaled.jpg
END:VEVENT
BEGIN:VEVENT
DTSTART;TZID=Europe/Madrid:20251121T200000
DTEND;TZID=Europe/Madrid:20251121T200000
DTSTAMP:20260421T214136
CREATED:20251119T163144Z
LAST-MODIFIED:20251119T163144Z
UID:11381-1763755200-1763755200@www.ilcyl.com
SUMMARY:'Armonías. Música y poesía en torno a Antonio Machado'. El Espinar (Segovia)
DESCRIPTION:La Diputación de Segovia\, la Fundación Venancio Blanco y el Instituto Castellano y Leonés de la Lengua programan el viernes\, 21 de noviembre\, en el Auditorio Gonzalo Menéndez Pidal de El Espinar\, la propuesta Armonías. Se trata de un espectáculo que fusiona música\, baile\, poesía y que se complementa con una mesa redonda dedicada a la vida y obra de Antonio Machado.  El concierto cuenta con la presencia de los artistas José Luis Montón\, Inma La Carbonera y Lara Carrasco. El coloquio posterior reúne a Paulino Lorenzo\, Lola Mascarel y Tomás Paredes. \nEntrada libre. \n 
URL:https://www.ilcyl.com/evento/armonias-musica-y-poesia-en-torno-a-antonio-machado-el-espinar-segovia/
CATEGORIES:Actividad literaria,Música
ATTACH;FMTTYPE=image/jpeg:https://www.ilcyl.com/wp-content/uploads/2025/11/Arminias-Segovia-.jpg
END:VEVENT
BEGIN:VEVENT
DTSTART;TZID=Europe/Madrid:20251122T110000
DTEND;TZID=Europe/Madrid:20251122T140000
DTSTAMP:20260421T214136
CREATED:20251023T153512Z
LAST-MODIFIED:20251023T153923Z
UID:11119-1763809200-1763820000@www.ilcyl.com
SUMMARY:‘Los Sábados en Palacio’. Visita guiada al Palacio de la Isla. Burgos
DESCRIPTION:El Instituto Castellano y Leonés de la Lengua organiza el sábado\, 22 de noviembre\, en horario de 11:00 a 14:00 horas\, la propuesta ‘Los Sábados en Palacio’\, una nueva jornada de puertas abiertas a su sede\, el Palacio de la Isla\, que incluye una visita guiada (12:00 horas) de carácter gratuito que acerca al visitante la historia de uno de los edificios más emblemáticos de la capital burgalesa. Esta propuesta quiere también dar a conocer el trabajo de la institución en el ámbito de la investigación de orígenes del español y en la promoción de la literatura de la Comunidad.
URL:https://www.ilcyl.com/evento/11119/
CATEGORIES:Visita guiada
ATTACH;FMTTYPE=image/jpeg:https://www.ilcyl.com/wp-content/uploads/2025/10/22-11-2025.-Sabados-en-Palacio.-A4.jpg
END:VEVENT
BEGIN:VEVENT
DTSTART;TZID=Europe/Madrid:20251122T120000
DTEND;TZID=Europe/Madrid:20251122T133000
DTSTAMP:20260421T214136
CREATED:20251106T124552Z
LAST-MODIFIED:20251106T124552Z
UID:11262-1763812800-1763818200@www.ilcyl.com
SUMMARY:'Gente que lee'.  Burgos
DESCRIPTION:El Instituto Castellano y Leonés de la Lengua promueve el sábado\, 22 de noviembre\, a las 12:00 horas\, en el Palacio de la Isla\, la primera sesión de la nueva propuesta cultural ‘Gente que lee’\, iniciativa diseñada con la intención de facilitar a los lectores un espacio cómodo y confortable de lectura al tiempo que comparten sus experiencias lectoras con otras personas. La iniciativa\, que tendrá periodicidad mensual\, complementa la oferta cultural de ‘Los Sábados en Palacio’\, la jornada de puertas abiertas que la institución programa semanalmente para dar a conocer la historia del inmueble burgalés y el trabajo de la institución. \n 
URL:https://www.ilcyl.com/evento/gente-que-lee-burgos/
CATEGORIES:Actividad literaria,Encuentro
ATTACH;FMTTYPE=image/jpeg:https://www.ilcyl.com/wp-content/uploads/2025/11/22-11-2025.-Palacio-de-la-Isla-de-Burgos.-Gente-que-Lee-A4-scaled.jpg
END:VEVENT
BEGIN:VEVENT
DTSTART;TZID=Europe/Madrid:20251123T100000
DTEND;TZID=Europe/Madrid:20251123T133000
DTSTAMP:20260421T214136
CREATED:20251110T111518Z
LAST-MODIFIED:20251110T111518Z
UID:11281-1763892000-1763904600@www.ilcyl.com
SUMMARY:'Encuentro con el autor. El fin de un mundo'\, con Carmelo Romero. Las Cuevas de Soria
DESCRIPTION:El Instituto Castellano y Leonés de la Lengua y la Diputación de Soria promueven el domingo\, 23 de noviembre\, en horario de 10:00 a 13:30 horas\, en el Museo Magna Mater de la Villa Romana La Dehesa\, en las Cuevas de Soria\, la nueva propuesta literaria ‘Encuentro con el autor’\, que cuenta en su primera sesión con la presencia del historiador y escritor soriano Carmelo Romero\, autor de la novela El fin de un mundo (Pepitas de calabaza & Los aciertos\, 2024). El ‘Encuentro con el autor’ comienza con una visita guiada al yacimiento de la Villa romana de la Dehesa y prosigue con el encuentro y posterior coloquio del escritor con sus lectores.
URL:https://www.ilcyl.com/evento/encuentro-con-el-autor-el-fin-de-un-mundo-con-carmelo-romero-las-cuevas-de-soria/
CATEGORIES:Encuentro,Visita guiada
ATTACH;FMTTYPE=image/png:https://www.ilcyl.com/wp-content/uploads/2025/11/Cartel-Encuentro-con-el-autor-Caremlo-Romero.png
END:VEVENT
END:VCALENDAR