BEGIN:VCALENDAR
VERSION:2.0
PRODID:-//ILCYL - ECPv5.14.1//NONSGML v1.0//EN
CALSCALE:GREGORIAN
METHOD:PUBLISH
X-WR-CALNAME:ILCYL
X-ORIGINAL-URL:https://www.ilcyl.com
X-WR-CALDESC:Events for ILCYL
REFRESH-INTERVAL;VALUE=DURATION:PT1H
X-Robots-Tag:noindex
X-PUBLISHED-TTL:PT1H
BEGIN:VTIMEZONE
TZID:Europe/Madrid
BEGIN:DAYLIGHT
TZOFFSETFROM:+0100
TZOFFSETTO:+0200
TZNAME:CEST
DTSTART:20260329T010000
END:DAYLIGHT
BEGIN:STANDARD
TZOFFSETFROM:+0200
TZOFFSETTO:+0100
TZNAME:CET
DTSTART:20261025T010000
END:STANDARD
END:VTIMEZONE
BEGIN:VEVENT
DTSTART;TZID=Europe/Madrid:20260223T173000
DTEND;TZID=Europe/Madrid:20260223T183000
DTSTAMP:20260420T201802
CREATED:20260204T120759Z
LAST-MODIFIED:20260204T120851Z
UID:11932-1771867800-1771871400@www.ilcyl.com
SUMMARY:Taller de animación a la lectura 'Leo\, luego existo'\, por José María Lebrero. Guardo
DESCRIPTION:El Instituto Castellano y Leonés de la Lengua y la Diputación de Palencia programan en la biblioteca pública municipal de Guardo el lunes\, 23 de febrero\, a las 17:30 horas\, el taller de animación a la lectura ‘Leo\, luego existo’\, impartido por el periodista\, escritor y comunicador cultural José María Lebrero Vecino\, organizado con la colaboración del Ayuntamiento de Guardo. Se trata de una experiencia cultural que invita a descubrir los beneficios visibles y ocultos que ofrece la lectura. \n‘Leo\, luego existo’\, por José María Lebrero. Guardo (Palencia)  \n\nDía: Lunes\, 23 de febrero de 2026\nHora: 17:30 horas\nLugar: Biblioteca pública municipal de Guardo C/Santa Bárbara\nInscripción: gratuita en 979852590 y biblioteca@guardo.org\nPlazas: limitadas\nDestinatarios: Público joven y adulto\n\n 
URL:https://www.ilcyl.com/evento/taller-de-animacion-a-la-lectura-leo-luego-existo-por-jose-maria-lebrero-guardo/
CATEGORIES:Actividad literaria,Talleres
ATTACH;FMTTYPE=image/jpeg:https://www.ilcyl.com/wp-content/uploads/2026/02/23-02-2026.-Biblioteca-Publica-de-Guardo.-Jose-Maria-Lebrero-Taller-Leo-luego-exixto.-A4-scaled.jpg
END:VEVENT
BEGIN:VEVENT
DTSTART;TZID=Europe/Madrid:20260226T193000
DTEND;TZID=Europe/Madrid:20260226T203000
DTSTAMP:20260420T201802
CREATED:20260217T090138Z
LAST-MODIFIED:20260217T090138Z
UID:11993-1772134200-1772137800@www.ilcyl.com
SUMMARY:XII Encuentro 'Eméritus' con Inés Praga. Burgos
DESCRIPTION:La Fundación Santa María la Real organiza en el Palacio de la Isla de Burgos el jueves\, 26 de febrero\, a las 19:30 horas\, con la colaboración del Instituto Castellano y Leonés de la Lengua\, la decimosegunda sesión del Encuentro ‘Eméritus’ con la profesora Inés Praga\, referencia cultural burgalesa\, que ha mantenido durante muchos años una estrecho vínculo con la Universidad de Burgos\, institución en la que ocupó el cargo de vicerrectora de Relaciones Internacionales. Inés Praga estará acompañada durante este encuentro público por el filólogo Fernando Conde. \n‘Emeritus’\, con Inés Praga. Burgos \n\nDía: Jueves\, 26 de febrero de 2026\nHora: 19:30 horas\nLugar: Palacio de la Isla de Burgos\nEntrada: Libre hasta completar aforo\n\n 
URL:https://www.ilcyl.com/evento/xii-encuentro-emeritus-con-ines-praga-burgos/
CATEGORIES:Encuentro
ATTACH;FMTTYPE=image/jpeg:https://www.ilcyl.com/wp-content/uploads/2026/02/26.02.26-Encuentro-Emeritus-con-Ines-Praga.-Burgos.jpg
END:VEVENT
BEGIN:VEVENT
DTSTART;TZID=Europe/Madrid:20260228T110000
DTEND;TZID=Europe/Madrid:20260228T140000
DTSTAMP:20260420T201802
CREATED:20260202T162635Z
LAST-MODIFIED:20260202T162635Z
UID:11912-1772276400-1772287200@www.ilcyl.com
SUMMARY:Los Sábados en Palacio. Visita guiada al Palacio de la Isla de Burgos
DESCRIPTION:El Instituto Castellano y Leonés de la Lengua organiza el sábado\, 28 de febrero\, en horario de 11:00 a 14:00 horas\, la propuesta divulgativa ‘Los Sábados en Palacio’\, una nueva jornada de puertas abiertas a su sede\, el Palacio de la Isla\, que incluye una visita guiada (12:00 horas) de carácter gratuito que acerca al visitante la historia de uno de los edificios más emblemáticos de la capital burgalesa. Esta propuesta quiere también dar a conocer el trabajo de la institución en el ámbito de la investigación de orígenes del español y en la promoción de la literatura de la Comunidad.
URL:https://www.ilcyl.com/evento/los-sabados-en-palacio-visita-guiada-al-palacio-de-la-isla-de-burgos-6/
CATEGORIES:Visita guiada
ATTACH;FMTTYPE=image/jpeg:https://www.ilcyl.com/wp-content/uploads/2026/02/28-02-2026.-Sabados-en-Palacio.-A4.jpg
END:VEVENT
END:VCALENDAR