BEGIN:VCALENDAR
VERSION:2.0
PRODID:-//ILCYL - ECPv5.14.1//NONSGML v1.0//EN
CALSCALE:GREGORIAN
METHOD:PUBLISH
X-WR-CALNAME:ILCYL
X-ORIGINAL-URL:https://www.ilcyl.com
X-WR-CALDESC:Events for ILCYL
REFRESH-INTERVAL;VALUE=DURATION:PT1H
X-Robots-Tag:noindex
X-PUBLISHED-TTL:PT1H
BEGIN:VTIMEZONE
TZID:Europe/Madrid
BEGIN:DAYLIGHT
TZOFFSETFROM:+0100
TZOFFSETTO:+0200
TZNAME:CEST
DTSTART:20260329T010000
END:DAYLIGHT
BEGIN:STANDARD
TZOFFSETFROM:+0200
TZOFFSETTO:+0100
TZNAME:CET
DTSTART:20261025T010000
END:STANDARD
END:VTIMEZONE
BEGIN:VEVENT
DTSTART;TZID=Europe/Madrid:20260302T190000
DTEND;TZID=Europe/Madrid:20260302T200000
DTSTAMP:20260420T181326
CREATED:20251211T170801Z
LAST-MODIFIED:20251211T170801Z
UID:11622-1772478000-1772481600@www.ilcyl.com
SUMMARY:'Contando la música'\, con José Luis López Antón. Segovia
DESCRIPTION:El Instituto Castellano y Leonés de la Lengua y el Ayuntamiento de Segovia organizan el lunes\, 2 de marzo\, a las 19:00 horas\, en la Biblioteca Pública de Segovia una nueva sesión del ciclo divulgativo de música clásica ‘Contando la música’\, la charla de apreciación musical impartida por José Luis López Antón\, director titular de la Orquesta Sinfónica de Ávila. En este nuevo encuentro con el público\, López Antón analiza la partitura de ‘El Sombrero de Tres Picos’\, de Manuel de Falla. \nBiblioteca Pública de Segovia: C/ de los Procuradores de la Tierra\, nº 6 \nEntrada: Libre hasta completar aforo.
URL:https://www.ilcyl.com/evento/contando-la-musica-con-jose-luis-lopez-anton-segovia-3/
CATEGORIES:Conferencia,Música
ATTACH;FMTTYPE=image/jpeg:https://www.ilcyl.com/wp-content/uploads/2025/12/2026-03-02.-Contando-la-musica-Biblioteca-Publica-de-Segovia.-Sesion-X-scaled.jpg
END:VEVENT
BEGIN:VEVENT
DTSTART;TZID=Europe/Madrid:20260303T190000
DTEND;TZID=Europe/Madrid:20260303T200000
DTSTAMP:20260420T181326
CREATED:20260203T153003Z
LAST-MODIFIED:20260203T153003Z
UID:11918-1772564400-1772568000@www.ilcyl.com
SUMMARY:'La lira de las musas. Poesía actual de Castilla y León'\, con Fermín Herrero. Zamora
DESCRIPTION:El Instituto Castellano y Leonés de la Lengua organiza en la Biblioteca Pública de Zamora el martes\, 3 de marzo\, a las 19:00 horas\, una nueva sesión del nuevo encuentro literario ‘La lira de las musas. Poesía actual de Castilla y León’\, ciclo creado por esta institución\, coordinado y presentado por el poeta soriano Fermín Herrero. Con esta nueva propuesta divulgativa\, Herrero pretende presentar las líneas generales y los nombres de un panorama extenso y fructífero de autores que cultivan la poesía desde la Comunidad. En su recorrido\, tendrá tiempo para mencionar a los autores de Zamora y su provincia. \n\nDía: Martes\,3 de marzo\nHora: 19:00 horas\nLugar: Biblioteca pública de Zamora\nEntrada: Libre hasta completar aforo
URL:https://www.ilcyl.com/evento/la-lira-de-las-musas-poesia-actual-de-castilla-y-leon-con-fermin-herrero-zamora/
CATEGORIES:Actividad literaria,Conferencia
ATTACH;FMTTYPE=image/jpeg:https://www.ilcyl.com/wp-content/uploads/2026/02/03-03-2026.-Biblioteca-Publica-de-Zamora.-Fermin-Herrero-scaled.jpg
END:VEVENT
BEGIN:VEVENT
DTSTART;VALUE=DATE:20260304
DTEND;VALUE=DATE:20260307
DTSTAMP:20260420T181326
CREATED:20260120T121444Z
LAST-MODIFIED:20260120T121444Z
UID:11852-1772582400-1772841599@www.ilcyl.com
SUMMARY:Congreso internacional 'Urraca\, regina et imperatrix  Hispaniae'. León
DESCRIPTION:La Universidad de León y el Instituto Castellano y Leonés de la Lengua organizan durante los días 4\, 5 y 6 de marzo en la Facultad de Filosofía y Letras (salón de grados) el congreso internacional ‘Urraca\, regina et imperatrix Hispaniae’\, encuentro que reúne a especialistas de universidades españolas\, portuguesas y francesas. El congreso coincide con la conmemoración institucional del 900 aniversario del fallecimiento de la reina Urraca I de León.
URL:https://www.ilcyl.com/evento/congreso-internacional-urraca-regina-et-imperatrix-hispaniae-leon/
CATEGORIES:Congreso
ATTACH;FMTTYPE=image/jpeg:https://www.ilcyl.com/wp-content/uploads/2026/01/Cartel.-Congreso-Internacional-Urraca-regina-et-imperatrix-Hispaniae-1.jpg
ORGANIZER;CN="Universidad%20de%20Le%C3%B3n":MAILTO:info@unileon.es
END:VEVENT
BEGIN:VEVENT
DTSTART;TZID=Europe/Madrid:20260305T180000
DTEND;TZID=Europe/Madrid:20260305T190000
DTSTAMP:20260420T181326
CREATED:20260204T122323Z
LAST-MODIFIED:20260204T122323Z
UID:11936-1772733600-1772737200@www.ilcyl.com
SUMMARY:Taller de animación a la lectura ‘Leo\, luego existo’\, por José María Lebrero. Carrión de los Condes
DESCRIPTION:El Instituto Castellano y Leonés de la Lengua y la Diputación de Palencia programan en la biblioteca pública municipal Fray Miguel de Benavides de Carrión de los Condes el jueves\, 5 de marzo\, a las 18:00 horas\, el taller de animación a la lectura ‘Leo\, luego existo’\, impartido por el periodista\, escritor y comunicador cultural José María Lebrero Vecino\, organizado con la colaboración del Ayuntamiento de Carrión. Se trata de una experiencia cultural que invita a descubrir los beneficios visibles y ocultos que ofrece la lectura. \n‘Leo\, luego existo’\, por José María Lebrero. Carrión de los Condes  \n\nDía: Jueves\, 5 de marzo de 2026\nHora: 18:00 horas\nLugar: Biblioteca pública municipal Fray Miguel de Benavides. Pza. Condes de Carrión s/n\nEntrada: Libre hasta completar aforo\nPlazas: Limitadas\nDestinatarios: Público joven y adulto
URL:https://www.ilcyl.com/evento/taller-de-animacion-a-la-lectura-leo-luego-existo-por-jose-maria-lebrero-carrion-de-los-condes/
CATEGORIES:Actividad literaria,Talleres
ATTACH;FMTTYPE=image/jpeg:https://www.ilcyl.com/wp-content/uploads/2026/02/05-03-2026.-Biblioteca-Publica-de-Carrion-de-los-Condes.-Jose-Maria-Lebrero-Taller-Leo-luego-exixto.-A4-scaled.jpg
END:VEVENT
BEGIN:VEVENT
DTSTART;TZID=Europe/Madrid:20260307T110000
DTEND;TZID=Europe/Madrid:20260307T140000
DTSTAMP:20260420T181326
CREATED:20260304T083007Z
LAST-MODIFIED:20260304T083007Z
UID:12059-1772881200-1772892000@www.ilcyl.com
SUMMARY:Los Sábados en Palacio. Visita guiada al Palacio de la Isla de Burgos
DESCRIPTION:El Instituto Castellano y Leonés de la Lengua organiza el sábado\, 7 de marzo\, en horario de 11:00 a 14:00 horas\, la propuesta divulgativa ‘Los Sábados en Palacio’\, una nueva jornada de puertas abiertas a su sede\, el Palacio de la Isla\, que incluye una visita guiada (12:00 horas) de carácter gratuito que acerca al visitante la historia de uno de los edificios más emblemáticos de la capital burgalesa. Esta propuesta quiere también dar a conocer el trabajo de la institución en el ámbito de la investigación de orígenes del español y en la promoción de la literatura de la Comunidad.
URL:https://www.ilcyl.com/evento/los-sabados-en-palacio-visita-guiada-al-palacio-de-la-isla-de-burgos-7/
CATEGORIES:Visita guiada
ATTACH;FMTTYPE=image/jpeg:https://www.ilcyl.com/wp-content/uploads/2026/03/07-03-2026.-Sabados-en-Palacio.-A4.jpg
END:VEVENT
END:VCALENDAR