BEGIN:VCALENDAR
VERSION:2.0
PRODID:-//ILCYL - ECPv5.14.1//NONSGML v1.0//EN
CALSCALE:GREGORIAN
METHOD:PUBLISH
X-WR-CALNAME:ILCYL
X-ORIGINAL-URL:https://www.ilcyl.com
X-WR-CALDESC:Events for ILCYL
REFRESH-INTERVAL;VALUE=DURATION:PT1H
X-Robots-Tag:noindex
X-PUBLISHED-TTL:PT1H
BEGIN:VTIMEZONE
TZID:Europe/Madrid
BEGIN:DAYLIGHT
TZOFFSETFROM:+0100
TZOFFSETTO:+0200
TZNAME:CEST
DTSTART:20260329T010000
END:DAYLIGHT
BEGIN:STANDARD
TZOFFSETFROM:+0200
TZOFFSETTO:+0100
TZNAME:CET
DTSTART:20261025T010000
END:STANDARD
END:VTIMEZONE
BEGIN:VEVENT
DTSTART;TZID=Europe/Madrid:20260324T080000
DTEND;TZID=Europe/Madrid:20260504T170000
DTSTAMP:20260420T101458
CREATED:20260319T153219Z
LAST-MODIFIED:20260319T153219Z
UID:12161-1774339200-1777914000@www.ilcyl.com
SUMMARY:Exposición 'Enrique Gil. El romántico berciano'. Cacabelos (León)
DESCRIPTION:El Museo Arqueológico (MARCA) de Cacabelos acoge la exposición ‘Enrique Gil. El romántico berciano’\, proyecto expositivo que recrea a través de una selección de láminas distintos momentos de la vida de este autor berciano. La muestra\, integrada por una treintena de paneles recupera la historia del escritor berciano Enrique Gil y Carrasco. Es un recorrido por la vida y la obra de este escritor\, desde su árbol genealógico a su muerte en Berlín (Alemania).  Este proyecto itinerante recorrerá también Ponferrada y Villafranca del Bierzo.  La exposición está producida por el Instituto castellano y Leonés de la Lengua y para su itinerancia cuenta con la colaboración del Instituto de Estudios Bercianos y del Ayuntamiento de Cacabelos. \n 
URL:https://www.ilcyl.com/evento/exposicion-enrique-gil-el-romantico-berciano-cacabelos-leon/
CATEGORIES:Exposición
ATTACH;FMTTYPE=image/jpeg:https://www.ilcyl.com/wp-content/uploads/2026/03/Expo-Enrique-Gil.-El-romantico-berciano.-Cacabelos--scaled.jpg
END:VEVENT
BEGIN:VEVENT
DTSTART;VALUE=DATE:20260325
DTEND;VALUE=DATE:20260425
DTSTAMP:20260420T101458
CREATED:20260313T114302Z
LAST-MODIFIED:20260313T114302Z
UID:12135-1774396800-1777075199@www.ilcyl.com
SUMMARY:Exposición 'Ciertos deslumbramientos'. Zamora
DESCRIPTION:El Ayuntamiento de Zamora y el Instituto Castellano y Leonés de la Lengua programan en el Centro Cultural La Alhóndiga de Zamora entre el 25 de marzo y 24 de abril la exposición de fotografía ‘Ciertos deslumbramientos’\, proyecto expositivo que integra 24 imágenes del fotógrafo leonés José Ramón Vega\, que se presentan acompañadas por textos poéticos de Tomás Sánchez Santiago\, escritor zamorano afincado en León\, reconocido recientemente con el Premio Castilla y León de las Letras 2025. ‘Ciertos deslumbramientos’ integra imágenes que intentan sugerir sutiles espacios narrativos\, momentos detenidos\, llenos de luz\, una luz a veces deslumbrante y contundente y otras musitada y pretendidamente incidental.
URL:https://www.ilcyl.com/evento/exposicion-ciertos-deslumbramientos-zamora/
CATEGORIES:Exposición
ATTACH;FMTTYPE=image/jpeg:https://www.ilcyl.com/wp-content/uploads/2026/03/Ciertos-deslumbramientos.-Zamora-1080x1080-1.jpg
END:VEVENT
BEGIN:VEVENT
DTSTART;TZID=Europe/Madrid:20260325T120000
DTEND;TZID=Europe/Madrid:20260427T140000
DTSTAMP:20260420T101458
CREATED:20260313T121906Z
LAST-MODIFIED:20260313T121906Z
UID:12141-1774440000-1777298400@www.ilcyl.com
SUMMARY:Exposición 'Bajo pluma de mujer'. Piedralaves (Ávila)
DESCRIPTION:El Hogar Rural del municipio abulense de  Piedralaves acoge desde el 25 de marzo hasta el 27 de abril la exposición ‘Bajo pluma de mujer’\, proyecto expositivo producido por la Fundación Instituto Castellano y Leonés de la Lengua y la Casa-Museo Unamuno de la Universidad de Salamanca\, programada en este equipamiento cultural con la colaboración de la Diputación de Ávila y el Ayuntamiento de Piedralaves. \nEste proyecto expositivo itinerante está basado en la investigación emprendida por la Universidad de Salamanca en torno a una extensa selección de cartas enviadas por mujeres escritoras e intelectuales de la época a Miguel de Unamuno en el primer tercio del siglo XX\, que s encuentran depositadas y custodiadas en la Casa-Museo Unamuno de Salamanca. \nPeriodo expositivo: Del 25 de marzo al 27 de abril.
URL:https://www.ilcyl.com/evento/exposicion-bajo-pluma-de-mujer-piedralaves-avila/
CATEGORIES:Exposición
ATTACH;FMTTYPE=image/jpeg:https://www.ilcyl.com/wp-content/uploads/2026/03/Cartel-Bajo-Pluma-de-Mujer.-Piedralaves-Avila-scaled.jpg
END:VEVENT
BEGIN:VEVENT
DTSTART;TZID=Europe/Madrid:20260330T080000
DTEND;TZID=Europe/Madrid:20260901T170000
DTSTAMP:20260420T101458
CREATED:20260330T095259Z
LAST-MODIFIED:20260330T095259Z
UID:12203-1774857600-1788282000@www.ilcyl.com
SUMMARY:Exposición 'Clásicos de la literatura en Playmobil' Burgos
DESCRIPTION:El Instituto Castellano y Leonés de la Lengua presenta en el Palacio de la Isla de Burgos\, la exposición ‘Clásicos de la literatura en Playmobil’\, una original propuesta que acerca al público algunos de los títulos más representativos de la literatura española a través de dioramas elaborados con figuras de Playmobil. La muestra\, organizada en colaboración con la Asociación Cultural de Castilla y León y Amigos de Colombia (ACYCOL)\, se enmarca en el compromiso de la fundación con la difusión del patrimonio literario de la Comunidad\, apostando por fórmulas que combinan rigor\, creatividad y capacidad evocadora. \nEl recorrido incluye referencias esenciales como Cantar de Mio Cid; La vida de Lazarillo de Tormes y de sus fortunas y adversidades; La Celestina\, de Fernando de Rojas; Las moradas o el castillo interior\, de Santa Teresa de Jesús; Don Juan Tenorio\, de José Zorrilla; La casa de Bernarda Alba\, de Federico García Lorca; El príncipe destronado\, de Miguel Delibes; y Don Quijote de la Mancha\, de Miguel de Cervantes.
URL:https://www.ilcyl.com/evento/exposicion-clasicos-de-la-literatura-en-playmobil-burgos/
CATEGORIES:Exposición
ATTACH;FMTTYPE=image/jpeg:https://www.ilcyl.com/wp-content/uploads/2026/03/Cartel-Clasicos-de-la-literatura-en-playmobil-scaled.jpg
END:VEVENT
BEGIN:VEVENT
DTSTART;VALUE=DATE:20260409
DTEND;VALUE=DATE:20260411
DTSTAMP:20260420T101458
CREATED:20260406T142138Z
LAST-MODIFIED:20260406T142307Z
UID:12258-1775692800-1775865599@www.ilcyl.com
SUMMARY:Congreso 'Villafranca del Bierzo. Entre Nápoles y Florencia'
DESCRIPTION:El Congreso Internacional ‘Villafranca del Bierzo\, entre Nápoles y Florencia: Mujeres de poder y esplendor cortesano en la Monarquía de los Austrias’ sirve de homenaje en Vilafranca del Bierzo a Doña Leonor de Toledo y Osorio (1581) y Doña María de Toledo y Mendoza (1581)\, dos mujeres que destacaron por su relevancia histórica y cultural\,  cuyas vidas transcurren en Villafranca y la comarca de El Bierzo\, y se prolongan con estancias en el Reino de Nápoles y el Ducado de Florencia. El Instituto Castellano y Leonés de la Lengua se implica en el encuentro académico que se celebra los días 9 y 10 de abril en la Iglesia del Convento de la Anunciada de Villafranca del Bierzo. \n 
URL:https://www.ilcyl.com/evento/congreso-villafranca-del-bierzo-entre-napoles-y-florencia/
CATEGORIES:Congreso
ATTACH;FMTTYPE=image/jpeg:https://www.ilcyl.com/wp-content/uploads/2026/04/Congreso-Villfranca-del-Bierzo.-Entre-Napoles-y-Florencia.jpg
END:VEVENT
BEGIN:VEVENT
DTSTART;TZID=Europe/Madrid:20260409T193000
DTEND;TZID=Europe/Madrid:20260409T203000
DTSTAMP:20260420T101458
CREATED:20260313T130733Z
LAST-MODIFIED:20260313T130733Z
UID:12144-1775763000-1775766600@www.ilcyl.com
SUMMARY:Presentación del libro 'Colirio para cangrejos' (Eolas)\, de Adrián Pérez. Burgos
DESCRIPTION:El Instituto Castellano y Leonés de la Lengua programa el jueves\, 9 de abril\, a las 19:30 horas\, en el Palacio de la Isla de Burgos\, la presentación del libro ‘Colirio para cangrejos‘ (Eolas Ediciones)\, de Adrián Pérez Avendaño. La presentación\, organizada con la colaboración de la Asociación de Libreros de Burgos\, contará también con la presencia del filólogo e historiador Ángel Moral de Gracia\, que conversará con el autor en torno a este título. \n\nDía: Jueves\, 9 de abril de 2026\nHora: 19:30 horas\nLugar: Palacio de la Isla. Paseo de la Isla nº 1 Burgos\nEntrada: libre hasta completar aforo.\n\n  \n 
URL:https://www.ilcyl.com/evento/presentacion-del-libro-colirio-para-cangrejos-eolas-de-adrian-perez-burgos/
CATEGORIES:Actividad literaria,Encuentro
ATTACH;FMTTYPE=image/jpeg:https://www.ilcyl.com/wp-content/uploads/2026/03/09-04-2026.-Palacio-de-la-Isla.-Presentacion-Colirio-para-cangrejos-Adrian-Perez.jpg
END:VEVENT
BEGIN:VEVENT
DTSTART;VALUE=DATE:20260411
DTEND;VALUE=DATE:20260615
DTSTAMP:20260420T101458
CREATED:20260408T095705Z
LAST-MODIFIED:20260408T095814Z
UID:12273-1775865600-1781481599@www.ilcyl.com
SUMMARY:Exposición 'El tiempo de la interferencia'. Instituto Leonés de Cultura. León
DESCRIPTION:.El Instituto Leonés de Cultura acoge la exposición ‘El tiempo de la interferencia’\, proyecto de arte contemporáneo que reúne a artistas nacionales e internacionales con trabajos en torno a una reflexión sobre imagen\, tecnología y percepción. Entre el 11 de abril y el 14 de junio\, la Sala Provincia del ILC de la capital leonesa propone al público un recorrido por distintas formas de entender el tiempo en el contexto actual\, desde la transformación del paisaje hasta el impacto del lenguaje y los dispositivos tecnológicos en nuestra forma de mirar. Comisariado por Jorge Quijano Ahijado y Silvia Argüello\, este montaje reúne piezas de Joan Fontcuberta\, el colectivo artístico italiano Fuse*\, Abelardo Gil Fournier\, Laurent Grasso\, Jenny Holzer y Jorge Quijano. El Instituto Castellano y Leonés de la Lengua se ha implicado en este proyecto artístico que promueve la Diputación de León\, junto a la Junta de Castilla y León\, el Ayuntamiento de León\, el MUSAC y otras entidades colaboradoras. \nInstituto Leonés de Cultura \n\nDel 11 de abril al 14 de junio\nHorarios: Martes a viernes: De 17:00 a 20:00 horas Sábados: de 11:00 a 14:00 y de 17:00 a 20:00 horas Domingos y festivos: De 11:00 a 14:00 horas. Lunes: Cerrado
URL:https://www.ilcyl.com/evento/el-tiempo-de-la-interferencia-instituto-leones-de-cultura-leon/
CATEGORIES:Exposición
ATTACH;FMTTYPE=image/jpeg:https://www.ilcyl.com/wp-content/uploads/2026/04/Cartel-interferencia-ILC.jpg
END:VEVENT
BEGIN:VEVENT
DTSTART;TZID=Europe/Madrid:20260411T110000
DTEND;TZID=Europe/Madrid:20260411T140000
DTSTAMP:20260420T101458
CREATED:20260330T144119Z
LAST-MODIFIED:20260330T144119Z
UID:12220-1775905200-1775916000@www.ilcyl.com
SUMMARY:Los Sábados en Palacio. Visita guiada al Palacio de la Isla de Burgos
DESCRIPTION:El Instituto Castellano y Leonés de la Lengua organiza el sábado\, 11 de abril en horario de 11:00 a 14:00 horas\, la propuesta divulgativa ‘Los Sábados en Palacio’\, una nueva jornada de puertas abiertas a su sede\, el Palacio de la Isla de Burgos\, que incluye una visita guiada (12:00 horas) de carácter gratuito que acerca al visitante la historia de uno de los edificios más emblemáticos de la capital burgalesa. Esta propuesta quiere también dar a conocer el trabajo de la institución en el ámbito de la investigación de orígenes del español y en la promoción de la literatura de la Comunidad.
URL:https://www.ilcyl.com/evento/los-sabados-en-palacio-visita-guiada-al-palacio-de-la-isla-de-burgos-9/
CATEGORIES:Visita guiada
ATTACH;FMTTYPE=image/jpeg:https://www.ilcyl.com/wp-content/uploads/2026/03/11-04-2026.-Sabados-en-Palacio.-A4.jpg
END:VEVENT
END:VCALENDAR